BEGIN:VCALENDAR
PRODID:NingEventWidget-v1
VERSION:2.0
METHOD:PUBLISH
BEGIN:VTIMEZONE
TZID:Europe/London
X-LIC-LOCATION:Europe/London
BEGIN:DAYLIGHT
TZOFFSETFROM:+0000
TZOFFSETTO:+0100
TZNAME:BST
DTSTART:19700329T010000
RRULE:FREQ=YEARLY;BYMONTH=3;BYDAY=-1SU
END:DAYLIGHT
BEGIN:STANDARD
TZOFFSETFROM:+0100
TZOFFSETTO:+0000
TZNAME:GMT
DTSTART:19701025T020000
RRULE:FREQ=YEARLY;BYMONTH=10;BYDAY=-1SU
END:STANDARD
END:VTIMEZONE
BEGIN:VEVENT
UID:4626108:Event:4101
DTSTAMP:20260425T214641Z
SUMMARY:Best of Camberley Network Evening
DESCRIPTION:Network Evening with The Best of Camberley\n\n\nFollowing 
 the great success of our last meeting, when over 50 delegates establis
 hed new links and business opportunities, and enjoyed a brilliant even
 ing on the patio with a delicious BBQ, the ‘best of Camberley’ is 
 bringing you another Network Evening with a difference.\n\nThis is our
  pre Business Expo meeting and its your chance to compare notes with o
 ther stand holders.\n\n\nYou will be able to enjoy totally unstructure
 d Networking with around 60 local professionals, entrepreneurs and bus
 inesspeople, in the superb refurbished Conference Facility of Windlesh
 am Golf Club.\n\n\nWe do away with formality and give you the chance t
 o relax, chat and enjoy the surroundings. You never know, you might ev
 en find your next business partner or contract whilst enjoying the sup
 erb nibbles!\n\n\nHOW YOU WILL BENEFIT\n\n* Connect with like-minded b
 usiness people in a relaxed ambient atmosphere\n* Discover potential n
 ew business alliances\n* Source the best local suppliers\n* Raise the 
 public profile of your business\n* Display your company literature on 
 our Promotion Table\n* Enjoy a complimentary glass of red or white win
 e, soft drinks, light snacks & delicious canapes\n* Fully licensed bar
 \n* Have a fun evening!\n\n\nCOST:\n\nBusiness Members of the bestof -
  £10 + vat\n\nNon-members & guests - £15 + Vat\n\nBOOK: http://www.e
 ventelephant.com/networkingwithbestofcamberley\n\n\n\nPARKING:\nThere 
 is plenty of free parking at the venue.\n\nDIRECTIONS:\n\nWindlesham G
 olf Club,\n\nGrove End\nBagshot\nSurrey. GU19 5HY\n\nhttp://www.windle
 shamgolf.com/ContactUs/tabid/414/Default.aspx\n\nFor more information 
 visit https://networkinginsurrey.co.uk/events/best-of-camberley-networ
 k
DTSTART;TZID=Europe/London:20101005T183000
DTEND;TZID=Europe/London:20101005T203000
CATEGORIES:evening, networking, event
LOCATION:Windlesham Golf Club
WEBSITE:http://www.windleshamgolf.com/ContactUs/tabid/414/Default.aspx
URL:http://www.windleshamgolf.com/ContactUs/tabid/414/Default.aspx
CONTACT:01344 874091 / 07825 414432
ORGANIZER;CN="John D. Udal":https://networkinginsurrey.co.uk/profile/J
 ohnDUdal
ATTACH;FMTTYPE="image/jpeg":
ATTENDEE;ROLE=REQ-PARTICIPANT;PARTSTAT=ACCEPTED;RSVP=TRUE;CN="John D. 
 Udal":https://networkinginsurrey.co.uk/profile/JohnDUdal
ATTENDEE;ROLE=REQ-PARTICIPANT;PARTSTAT=TENTATIVE;RSVP=TRUE;CN="Shirley
  Barton-Gunning":https://networkinginsurrey.co.uk/profile/ShirleyBarto
 nGunning
END:VEVENT
END:VCALENDAR
