BEGIN:VCALENDAR
PRODID:NingEventWidget-v1
VERSION:2.0
METHOD:PUBLISH
BEGIN:VTIMEZONE
TZID:Europe/London
X-LIC-LOCATION:Europe/London
BEGIN:DAYLIGHT
TZOFFSETFROM:+0000
TZOFFSETTO:+0100
TZNAME:BST
DTSTART:19700329T010000
RRULE:FREQ=YEARLY;BYMONTH=3;BYDAY=-1SU
END:DAYLIGHT
BEGIN:STANDARD
TZOFFSETFROM:+0100
TZOFFSETTO:+0000
TZNAME:GMT
DTSTART:19701025T020000
RRULE:FREQ=YEARLY;BYMONTH=10;BYDAY=-1SU
END:STANDARD
END:VTIMEZONE
BEGIN:VEVENT
UID:4626108:Event:5406
DTSTAMP:20260423T040343Z
SUMMARY:Best of Camberley Network Evening
DESCRIPTION:THIS EVENT HAS BEEN CANCELLED DUE TO WEATHER CONDITIONS - 
 WE'LL RECONVENE IN THE NEW YEAR!\n\nThe ‘best of Camberley’ is bri
 nging you another Network Evening with a difference. You will be able 
 to enjoy totally unstructured Networking with around 60 local professi
 onals, entrepreneurs and businesspeople, in the superb refurbished Con
 ference Facility of Windlesham Golf Club.\nHOW YOU WILL BENEFIT: * Con
 nect with like-minded business people in a relaxed ambient atmosphere 
 * Discover potential new business alliances * Source the best local su
 ppliers * Raise the public profile of your business* Display your comp
 any literature on our Promotion Table* Enjoy a complimentary glass of 
 mulled wine, soft drinks, light snacks & delicious festive canapes* Fu
 lly licensed bar* Have a fun evening!\nCOST: Business Members of the b
 estof - £10 + vat, Non-members & guests - £15 + Vat\n*** NiS discoun
 t for Networking in Surrey Members - Promo Code CAM123 . Save £3.00 o
 n guest ticket total\nPARKING: There is plenty of free parking at the 
 venue.\nMAP printable PDF\nCLICK HERE TO BOOK\n-----------------------
 ------\nthebestof Camberley is run by NiS Member John D Udal.\n\nFor m
 ore information visit https://networkinginsurrey.co.uk/events/best-of-
 camberley-network-1
DTSTART;TZID=Europe/London:20101207T183000
DTEND;TZID=Europe/London:20101207T203000
CATEGORIES:evening, network, meeting
LOCATION:Windlesham Golf Club GU19 5HY
WEBSITE:http://www.eventelephant.com/businessnetworkeveningwiththebest
 ofcamberley
URL:http://www.eventelephant.com/businessnetworkeveningwiththebestofca
 mberley
CONTACT:01344 874091
ORGANIZER;CN="John D. Udal":https://networkinginsurrey.co.uk/profile/J
 ohnDUdal
ATTACH;FMTTYPE="image/jpeg":http://storage.ning.com/topology/rest/1.0/
 file/get/2591390157?profile=original
ATTENDEE;ROLE=REQ-PARTICIPANT;PARTSTAT=ACCEPTED;RSVP=TRUE;CN="John D. 
 Udal":https://networkinginsurrey.co.uk/profile/JohnDUdal
END:VEVENT
END:VCALENDAR
