BEGIN:VCALENDAR
PRODID:NingEventWidget-v1
VERSION:2.0
METHOD:PUBLISH
BEGIN:VTIMEZONE
TZID:Europe/London
X-LIC-LOCATION:Europe/London
BEGIN:DAYLIGHT
TZOFFSETFROM:+0000
TZOFFSETTO:+0100
TZNAME:BST
DTSTART:19700329T010000
RRULE:FREQ=YEARLY;BYMONTH=3;BYDAY=-1SU
END:DAYLIGHT
BEGIN:STANDARD
TZOFFSETFROM:+0100
TZOFFSETTO:+0000
TZNAME:GMT
DTSTART:19701025T020000
RRULE:FREQ=YEARLY;BYMONTH=10;BYDAY=-1SU
END:STANDARD
END:VTIMEZONE
BEGIN:VEVENT
UID:4626108:Event:137979
DTSTAMP:20260424T094139Z
SUMMARY:Selling Your Crafts Online Evening, East Molesey
DESCRIPTION:Beginner's Guide to Selling Your Crafts Online\r\n\r\nLear
 n how to start to sell your handmade crafts online, starting from basi
 cs.\r\n​You will get an overview of what you need to do to start, wh
 ich websites to use, what free social media tools there are available 
 and the basics of how to use them. Plus meet other crafters you can wo
 rk with. Q&A session for you to get answers to your burning questions.
 \r\n​Natalie aka Crafty London Mum will take you through how to set 
 up an online shop and how to drive traffic using free software and gai
 n sales. Natalie took maternity leave form her marketing job and in th
 at year has gone from nothing to a thriving online shop.\r\nSally who 
 runs Made In Molesey Craft group has marketing expertise from running 
 and promoting her businesses. She crafts in her spare time, but has a 
 marketing promotions business of 15 years and has launched her second 
 company a year ago. She will apply her knowledge of social media and o
 nline promotion to her crafting hobby to help you reach customers.\r\n
 Doors open 7.30, talk 8-10pm. Mon 3rd June 2019\r\nCOST: £10\r\nBOOK
 ING: Please CLICK HERE to book\r\nMAP\r\n\r\n​\n\nFor more informati
 on visit https://networkinginsurrey.co.uk/events/beginner-s-guide-to-s
 elling-your-crafts-online
DTSTART;TZID=Europe/London:20190603T200000
DTEND;TZID=Europe/London:20190603T220000
CATEGORIES:talk
LOCATION:St Mary's Church
WEBSITE:https://www.madeinmolesey.co.uk/guide-to-selling-crafts-online
URL:https://www.madeinmolesey.co.uk/guide-to-selling-crafts-online
CONTACT:
ORGANIZER:Natalie
ATTACH;FMTTYPE="image/jpeg":https://storage.ning.com/topology/rest/1.0
 /file/get/2497661610?profile=original
ATTENDEE;ROLE=REQ-PARTICIPANT;PARTSTAT=ACCEPTED;RSVP=TRUE;CN="Sally Fi
 ndlay":https://networkinginsurrey.co.uk/profile/SallyFindlay
END:VEVENT
END:VCALENDAR
