BEGIN:VCALENDAR
PRODID:NingEventWidget-v1
VERSION:2.0
METHOD:PUBLISH
BEGIN:VTIMEZONE
TZID:Europe/London
X-LIC-LOCATION:Europe/London
BEGIN:DAYLIGHT
TZOFFSETFROM:+0000
TZOFFSETTO:+0100
TZNAME:BST
DTSTART:19700329T010000
RRULE:FREQ=YEARLY;BYMONTH=3;BYDAY=-1SU
END:DAYLIGHT
BEGIN:STANDARD
TZOFFSETFROM:+0100
TZOFFSETTO:+0000
TZNAME:GMT
DTSTART:19701025T020000
RRULE:FREQ=YEARLY;BYMONTH=10;BYDAY=-1SU
END:STANDARD
END:VTIMEZONE
BEGIN:VEVENT
UID:4626108:Event:3920
DTSTAMP:20260425T231353Z
SUMMARY:Beginner Adult Art Evening Workshops, Godalming
DESCRIPTION:Beginner Adult Art Workshops at Farncombe Boat House,Godal
 ming\n\n\nThese three 'Portraiture for Beginners' adult art workshops 
 will consist of 3-hour tutor-led sessions on three consecutive evening
 s - Tuesday 14, Wednesday 15 and Thursday 16 September from 6pm to 9pm
 .\nThe workshops, tutored by local artist Jo Quigley are for people wi
 th an interest in learning basic portrait techniques using materials s
 uch as pencil, pastel and charcoal. Materials will be provided, and wo
 rks produced from these sessions will be exhibited on the Godalming Bo
 rough Hall on the 25th September, where visitors will be able to vote 
 for their favourite piece of work. The beginner artist with the most v
 otes will be given an art themed hamper as a prize.\nCOST: £2.50 per 
 session, including materials\nBOOK HERE: If you are interested in atte
 nding one of these workshops please email surreyartfair@hotmail.co.uk\
 nMAP\n----------------------------\nThis event has been posted by NiS 
 Member Lianne Tadd.\n\nFor more information visit https://networkingin
 surrey.co.uk/events/beginner-adult-art-evening
DTSTART;TZID=Europe/London:20100914T180000
DTEND;TZID=Europe/London:20100916T210000
CATEGORIES:workshop, godalming
LOCATION:Hectors on the Wey (cafe), Farncombe Boat House GU7 1NH
WEBSITE:http://www.surreycommunity.info/surreyartfair/beginner-adult-a
 rt-workshops/
URL:http://www.surreycommunity.info/surreyartfair/beginner-adult-art-w
 orkshops/
CONTACT:07837 803490
ORGANIZER:Lianne Tadd
ATTACH;FMTTYPE="image/jpeg":http://storage.ning.com/topology/rest/1.0/
 file/get/2591377754?profile=original
END:VEVENT
END:VCALENDAR
