BEGIN:VCALENDAR
PRODID:NingEventWidget-v1
VERSION:2.0
METHOD:PUBLISH
BEGIN:VTIMEZONE
TZID:Europe/London
X-LIC-LOCATION:Europe/London
BEGIN:DAYLIGHT
TZOFFSETFROM:+0000
TZOFFSETTO:+0100
TZNAME:BST
DTSTART:19700329T010000
RRULE:FREQ=YEARLY;BYMONTH=3;BYDAY=-1SU
END:DAYLIGHT
BEGIN:STANDARD
TZOFFSETFROM:+0100
TZOFFSETTO:+0000
TZNAME:GMT
DTSTART:19701025T020000
RRULE:FREQ=YEARLY;BYMONTH=10;BYDAY=-1SU
END:STANDARD
END:VTIMEZONE
BEGIN:VEVENT
UID:4626108:Event:69180
DTSTAMP:20260423T003706Z
SUMMARY:FREE Autumn Statement Breakfast Briefing, Heathrow
DESCRIPTION:Autumn Statement - Breakfast Briefing at the Arora Heathro
 w\nThe Partners of Wilkins Kennedy LLP are delighted to invite you to 
 join them for a breakfast briefing on the Autumn Statement with the WK
  Tax team.\nThe Autumn Statement 2014 will be made by the Chancellor o
 f the Exchequer, George Osborne on Wednesday 3rd December.  Our team 
 will be briefing attendees on the changes announced and the impact on 
 individuals and businesses.  As with every Autumn Statement the devil
  is often in the detail and we will be highlighting those issues which
  the Chancellor might not have made obvious in his address to Parliame
 nt.\nThe Arora Hotel Heathrow’s Blue Sky Suite offers unparalleled f
 ull panoramic views across the airport and surrounding areas and is eq
 uipped with a mini golf course! \nA light breakfast will be served. 
 \nCOST: FREE to attend, but booking is essential please\nBOOKING:Pleas
 e CLICK  HERE to book your free place Book your place here.\nfor th
 is event.  \nMAP\n\nFor more information visit https://networkingins
 urrey.co.uk/events/autumn-statement-breakfast-briefing
DTSTART;TZID=Europe/London:20141209T080000
DTEND;TZID=Europe/London:20141209T093000
CATEGORIES:breakfast, heathrow, seminar
LOCATION:Arora Hotel Heathrow UB7 0DG
WEBSITE:http://heathrow.arorahotels.com/default.aspx?pg=contactus
URL:http://heathrow.arorahotels.com/default.aspx?pg=contactus
CONTACT:01784 435561
ORGANIZER;CN="Sarah L Edwards":https://networkinginsurrey.co.uk/profil
 e/SarahLEdwards
ATTACH;FMTTYPE="image/jpeg":http://storage.ning.com/topology/rest/1.0/
 file/get/2591428798?profile=original
ATTENDEE;ROLE=REQ-PARTICIPANT;PARTSTAT=ACCEPTED;RSVP=TRUE;CN="Sarah L 
 Edwards":https://networkinginsurrey.co.uk/profile/SarahLEdwards
END:VEVENT
END:VCALENDAR
