BEGIN:VCALENDAR
PRODID:NingEventWidget-v1
VERSION:2.0
METHOD:PUBLISH
BEGIN:VTIMEZONE
TZID:Europe/London
X-LIC-LOCATION:Europe/London
BEGIN:DAYLIGHT
TZOFFSETFROM:+0000
TZOFFSETTO:+0100
TZNAME:BST
DTSTART:19700329T010000
RRULE:FREQ=YEARLY;BYMONTH=3;BYDAY=-1SU
END:DAYLIGHT
BEGIN:STANDARD
TZOFFSETFROM:+0100
TZOFFSETTO:+0000
TZNAME:GMT
DTSTART:19701025T020000
RRULE:FREQ=YEARLY;BYMONTH=10;BYDAY=-1SU
END:STANDARD
END:VTIMEZONE
BEGIN:VEVENT
UID:4626108:Event:12401
DTSTAMP:20260422T173702Z
SUMMARY:Athena Women's 'Social Media' Lunch, Chertsey
DESCRIPTION:Athena 'Social Media' Lunch at Foxhills\n\nCome and join u
 s for ladies networking and lunch at the beautiful Foxhills Resort & 
 Spa.\nThis month we welcome NiS Member Hazel McLellan from FGCS Soci
 al Media as our guest speaker.\nHazel is based in Berkshire and speci
 alises in social media.  She works with SME companies, solopreneurs a
 nd small business owners who want to understand social media marketing
  and how they can use it effectively in their business.  Hazel uses 
 social media and understands what’s required to create and implement
  social marketing. She will work with you to develop your social medi
 a strategy and help get you started.\nMAP & DIRECTIONS\nVENUE\n-------
 --------------------------------------\nThe Athena Network has 130 gro
 ups nationwide running focused, yet relaxed, networking lunches for lo
 cal business women. Our business meetings include open networking, gue
 st speakers, business training and the opportunity to promote your own
  business - whether well-established or starting out.\nAthena Ottersha
 w/Chertsey is hosted by NiS Member Sam New-Fielding\n \n\nFor more in
 formation visit https://networkinginsurrey.co.uk/events/athena-womens-
 social-media
DTSTART;TZID=Europe/London:20110405T120000
DTEND;TZID=Europe/London:20110405T140000
CATEGORIES:ladies, business, networking
LOCATION:Foxhills Resort & Spa KT16 0EL
WEBSITE:
URL:
CONTACT:01483 453142 / 07985 913670
ORGANIZER:Sam New-Fielding
ATTACH;FMTTYPE="image/jpeg":http://storage.ning.com/topology/rest/1.0/
 file/get/2591381626?profile=original
ATTENDEE;ROLE=REQ-PARTICIPANT;PARTSTAT=ACCEPTED;RSVP=TRUE;CN="Melinda 
 Williams":https://networkinginsurrey.co.uk/profile/MelindaWilliams
END:VEVENT
END:VCALENDAR
