BEGIN:VCALENDAR
PRODID:NingEventWidget-v1
VERSION:2.0
METHOD:PUBLISH
BEGIN:VTIMEZONE
TZID:Europe/London
X-LIC-LOCATION:Europe/London
BEGIN:DAYLIGHT
TZOFFSETFROM:+0000
TZOFFSETTO:+0100
TZNAME:BST
DTSTART:19700329T010000
RRULE:FREQ=YEARLY;BYMONTH=3;BYDAY=-1SU
END:DAYLIGHT
BEGIN:STANDARD
TZOFFSETFROM:+0100
TZOFFSETTO:+0000
TZNAME:GMT
DTSTART:19701025T020000
RRULE:FREQ=YEARLY;BYMONTH=10;BYDAY=-1SU
END:STANDARD
END:VTIMEZONE
BEGIN:VEVENT
UID:4626108:Event:530429
DTSTAMP:20260424T200527Z
SUMMARY:Athena Woking Lunchtime Online
DESCRIPTION:The Athena Network: Woking Group - Guest Speaker Susanna R
 eay\n\nYou're welcome to visit us at our monthly business networking m
 eeting, with like-minded businesswomen, entrepreneurs, and executives.
  We are a fabulous group of women from a wide range of industry sector
 s, who are passionate about their business and who are looking to conn
 ect with and build professional relationships with other local busines
 swomen.\nNot just a networking group, The Athena Network has three aim
 s:\n\nto create strategic connections/ collaborations\nto deliver and 
 develop business skills through our business talks and workshops\nto i
 nspire, motivate and support the women in our network\n\nAbout Athena 
 Meetings\nAthena meetings are structured, interactive, informative, an
 d professional whilst being fun and relaxed, providing the perfect com
 bination for strong business partnerships. We aim to create a vibrant,
  thriving, and dynamic community of women entrepreneurs and executives
  who collaborate and connect with like-minded women.\nOur meetings sta
 rt at 12pm with \"open Zoom Room networking\" followed by a structured
  meeting until 2pm. You'll have the opportunity to present a 60-second
  \"pitch\" for your business so that we know who to connect you with a
 nd how to support you.\nThis month our Business Development Training s
 peaker will be:\nSusanna Reay from The Introvert Way™\nBooking your
  Place\nVisitors are welcome, but booking is essential. We operate a o
 ne slot per profession policy, so please ensure you provide your profe
 ssion details with your booking. If you would like to check to see if 
 your profession isn't locked out before booking, please feel free to c
 ontact me directly.\nSPECIAL OFFER: If you choose to join us after at
 tending an online meeting, your visitor fee will be offset against the
  subscription fee, meaning you effectively visit for free!\nCOST: £30
 .00\nBOOKING: Please CLICK HERE to book your place\n------------------
 ----------------------------\nTo find out more about Athena, please:\n
 \ncall me on 07501 124113\nemail: doris.holleufer@theathenanetwork.com
 \ntake a look at our website\nfind us on Facebook\n\n\n\nFor more in
 formation visit https://networkinginsurrey.co.uk/events/athena-wokin-l
 unchtime-online
DTSTART;TZID=Europe/London:20211118T120000
DTEND;TZID=Europe/London:20211118T140000
CATEGORIES:virtual, networking
LOCATION:Online
WEBSITE:http://www.theathenanetwork.co.uk/dorisholleufer
URL:http://www.theathenanetwork.co.uk/dorisholleufer
CONTACT:07501 124113
ORGANIZER;CN="Doris Holleufer":https://networkinginsurrey.co.uk/profil
 e/DorisHolleufer88
ATTACH;FMTTYPE="image/jpeg":https://storage.ning.com/topology/rest/1.0
 /file/get/9630861266?profile=original
ATTENDEE;ROLE=REQ-PARTICIPANT;PARTSTAT=ACCEPTED;RSVP=TRUE;CN="Doris Ho
 lleufer":https://networkinginsurrey.co.uk/profile/DorisHolleufer88
END:VEVENT
END:VCALENDAR
