BEGIN:VCALENDAR
PRODID:NingEventWidget-v1
VERSION:2.0
METHOD:PUBLISH
BEGIN:VTIMEZONE
TZID:Europe/London
X-LIC-LOCATION:Europe/London
BEGIN:DAYLIGHT
TZOFFSETFROM:+0000
TZOFFSETTO:+0100
TZNAME:BST
DTSTART:19700329T010000
RRULE:FREQ=YEARLY;BYMONTH=3;BYDAY=-1SU
END:DAYLIGHT
BEGIN:STANDARD
TZOFFSETFROM:+0100
TZOFFSETTO:+0000
TZNAME:GMT
DTSTART:19701025T020000
RRULE:FREQ=YEARLY;BYMONTH=10;BYDAY=-1SU
END:STANDARD
END:VTIMEZONE
BEGIN:VEVENT
UID:4626108:Event:3404
DTSTAMP:20260425T143956Z
SUMMARY:Athena Network Lunch, Ottershaw/Chertsey
DESCRIPTION:Launch Event -The Athena Network Lunch, Foxhills\n\nThe At
 hena Network is the fastest growing business women's network in the UK
 , with over 130 Athena Network groups nationwide. We run focused, yet 
 relaxed, networking lunches for local business women. We also train yo
 u in how to network effectively, so whether you are new or experienced
  at networking, Athena welcomes you!\nThis month's Guest Speaker is Ph
 ilip Waite from zuuMedia\nzuuMedia specialises in enabling business ow
 ners to focus on their business not their technology. Technology is cr
 itical for every business and you need someone to advise and support y
 ou at all times. This is why Philip set up zuuMedia. By the end of the
  talk you will know 6 critical technology tips all business owners nee
 d to grow and protect their business:\n■Don't be afraid of technolog
 y – embrace it\n■Why backing up your data is essential\n■How imp
 ortant CRM is to your business\n■Some key and easy tips for your web
 site\n■Where to turn when you need support\n\n\nCOST: Guests - £25 
 including lunch, refreshments & Athena information pack. Members - £2
 0\nBOOK HERE: Pre-registration is essential - if would like to join us
 , please let us know 48 hours before the Meeting, so that we can reser
 ve a place for you, as our events do sell out.\nContact Tricia Taylor 
 01932 882 340tricia.taylor@theathenanetwork.com or Robyn Hatley 01932 
 422 573 robyn.hatley@theathenanetwork.com\nMAP & DIRECTIONS\nVENUE\nPa
 rking is ample and free.\n--------------------------------\nThe Athena
  Network is the fastest growing business women's network in the UK. At
 hena business lunch meetings run from 12 noon to 2pm and have informal
  networking time, a sit-down lunch and the opportunity to promote your
  own business. We also have business speakers on topics very relevant 
 to women in business, plus the chance for you to identify people you w
 ant to meet up with in the future or to talk about a particular busine
 ss experience that you’d like to share. Each Athena business support
  and networking group attracts a highly stimulating mix of professiona
 ls. Membership is managed strategically to maintain the right level of
  diversity across sectors and ensure no more than one member from any 
 individual business type within a sector\n NiS Member Robyn Hatley is 
 co-Regional Director for Athena North Surrey, together with Tricia Tay
 lor.\n\nFor more information visit https://networkinginsurrey.co.uk/ev
 ents/athena-network-lunch
DTSTART;TZID=Europe/London:20100921T120000
DTEND;TZID=Europe/London:20100921T140000
CATEGORIES:lunch, women, ottershaw, chertsey, athena_network, business
 _networking_surrey
LOCATION:Foxhills Resort & Spa, Ottershaw KT16 0EL
WEBSITE:http://www.athenanorthsurrey.co.uk/ottershaw/
URL:http://www.athenanorthsurrey.co.uk/ottershaw/
CONTACT:Robyn 01932 422573, Tricia 01932 882340
ORGANIZER:Robyn Hatley
ATTACH;FMTTYPE="image/jpeg":http://storage.ning.com/topology/rest/1.0/
 file/get/2591381626?profile=original
END:VEVENT
END:VCALENDAR
