BEGIN:VCALENDAR
PRODID:NingEventWidget-v1
VERSION:2.0
METHOD:PUBLISH
BEGIN:VTIMEZONE
TZID:Europe/London
X-LIC-LOCATION:Europe/London
BEGIN:DAYLIGHT
TZOFFSETFROM:+0000
TZOFFSETTO:+0100
TZNAME:BST
DTSTART:19700329T010000
RRULE:FREQ=YEARLY;BYMONTH=3;BYDAY=-1SU
END:DAYLIGHT
BEGIN:STANDARD
TZOFFSETFROM:+0100
TZOFFSETTO:+0000
TZNAME:GMT
DTSTART:19701025T020000
RRULE:FREQ=YEARLY;BYMONTH=10;BYDAY=-1SU
END:STANDARD
END:VTIMEZONE
BEGIN:VEVENT
UID:4626108:Event:3585
DTSTAMP:20260425T185756Z
SUMMARY:Athena Network Lunch, Guildford
DESCRIPTION:Athena Network Lunch, Guildford\n\nThe Athena Network is t
 he fastest growing business women's network in the UK, with over 130 A
 thena Network groups nationwide.\nWould you like to join us for a netw
 orking lunch meeting on Monday 19th July, to find out more about The A
 thena Network and this local Guildford group? At every month’s netwo
 rking lunch we welcome ladies from a variety of businesses where they 
 can promote their own businesses and enjoy the networking and business
  training that is typical of each of our events.\n\n\nOur lunches are 
 informal yet supportive. Athena appeals to both ladies starting up in 
 business and also those well-established in business. We attract local
  business ladies from a wide range of professions – all seeking to g
 row their businesses in a fun and productive way. The Guildford group 
 meets on the 3rd Monday of each month.\nCOST:Members - £20, Guests - 
 £25 including lunch, refreshments and Athena information pack\nBOOK H
 ERE: Pre-registration is essential - please contact NiS Member Helen J
 acobi (message via her Profle page here) or email tanja@theathenanetwo
 rk\nMAP\n----------------\nThe Athena Network has 130 Athena Network g
 roups nationwide running focused, yet relaxed, networking lunches for 
 local business women. Our business meetings include open networking, g
 uest speakers, business training and the opportunity to promote your o
 wn business - whether well-established or starting out.\n\nFor more in
 formation visit https://networkinginsurrey.co.uk/events/athena-network
 -lunch-guildford
DTSTART;TZID=Europe/London:20100920T120000
DTEND;TZID=Europe/London:20100920T140000
CATEGORIES:lunch, women, guildford, athena_network, business_network_s
 urrey
LOCATION:The Holiday Inn
WEBSITE:http://www.athenasurreycentral.co.uk/guildford-club/
URL:http://www.athenasurreycentral.co.uk/guildford-club/
CONTACT:
ORGANIZER:Helen Jacobi
ATTACH;FMTTYPE="image/jpeg":http://storage.ning.com/topology/rest/1.0/
 file/get/2591382334?profile=original
END:VEVENT
END:VCALENDAR
