BEGIN:VCALENDAR
PRODID:NingEventWidget-v1
VERSION:2.0
METHOD:PUBLISH
BEGIN:VTIMEZONE
TZID:Europe/London
X-LIC-LOCATION:Europe/London
BEGIN:DAYLIGHT
TZOFFSETFROM:+0000
TZOFFSETTO:+0100
TZNAME:BST
DTSTART:19700329T010000
RRULE:FREQ=YEARLY;BYMONTH=3;BYDAY=-1SU
END:DAYLIGHT
BEGIN:STANDARD
TZOFFSETFROM:+0100
TZOFFSETTO:+0000
TZNAME:GMT
DTSTART:19701025T020000
RRULE:FREQ=YEARLY;BYMONTH=10;BYDAY=-1SU
END:STANDARD
END:VTIMEZONE
BEGIN:VEVENT
UID:4626108:Event:4919
DTSTAMP:20260424T091932Z
SUMMARY:Athena Network Lunch, Guildford
DESCRIPTION:Athena Network Lunch, Guildford\n\nJoin us at GUILDFORD lu
 nch meeting on Monday 15th Nov, to find out more about The Athena Netw
 ork and this local Guildford group. At every monthâ€™s networking lunc
 h we welcome ladies from a variety of businesses where they can promot
 e their own businesses and enjoy the networking and business training 
 that is typical of each of our events. Our lunches are informal yet su
 pportive.\n\nAthena appeals to both ladies starting up in business and
  also those well-established in business. We attract strong, motivated
 , vibrant, inspirational, career minded ladies who share a passion for
  growing their businesses.\nFounded on values of respect and integrity
  we are committed to welcoming members and visitors in a relaxed, ethi
 cal and mutually supportive environment.\nThe Guildford group meets on
  the 3rd Monday of each month.\nCOST: Members - Â£20, Guests - Â£25 in
 cluding lunch, refreshments and Athena information pack\nBOOK HERE: Pr
 e-registration is essential - please contact NiS Member Tanja Gower (m
 essage via her Profle page here) or email tanja@theathenanetwork\nMAP\
 n-------------------------------------\nThe Athena Network has 160 Ath
 ena Network groups nationwide running focused, yet relaxed, networking
  lunches for local business women. Our business meetings include open 
 networking, guest speakers, business training and the opportunity to p
 romote your own business - whether well-established or starting out.â€
 ¦\n\nFor more information visit https://networkinginsurrey.co.uk/event
 s/athena-network-lunch-guildford-1
DTSTART;TZID=Europe/London:20101115T120000
DTEND;TZID=Europe/London:20101115T140000
CATEGORIES:lunch, meeting
LOCATION:Holiday Inn Guildford
WEBSITE:http://www.athenasurreycentral.co.uk/
URL:http://www.athenasurreycentral.co.uk/
CONTACT:07775675729
ORGANIZER;CN="Tanja Gower":https://networkinginsurrey.co.uk/profile/Ta
 njaGower
ATTACH;FMTTYPE="image/jpeg":http://storage.ning.com/topology/rest/1.0/
 file/get/2591382334?profile=original
ATTENDEE;ROLE=REQ-PARTICIPANT;PARTSTAT=ACCEPTED;RSVP=TRUE;CN="Tanja Go
 wer":https://networkinginsurrey.co.uk/profile/TanjaGower
END:VEVENT
END:VCALENDAR
