BEGIN:VCALENDAR
PRODID:NingEventWidget-v1
VERSION:2.0
METHOD:PUBLISH
BEGIN:VTIMEZONE
TZID:Europe/London
X-LIC-LOCATION:Europe/London
BEGIN:DAYLIGHT
TZOFFSETFROM:+0000
TZOFFSETTO:+0100
TZNAME:BST
DTSTART:19700329T010000
RRULE:FREQ=YEARLY;BYMONTH=3;BYDAY=-1SU
END:DAYLIGHT
BEGIN:STANDARD
TZOFFSETFROM:+0100
TZOFFSETTO:+0000
TZNAME:GMT
DTSTART:19701025T020000
RRULE:FREQ=YEARLY;BYMONTH=10;BYDAY=-1SU
END:STANDARD
END:VTIMEZONE
BEGIN:VEVENT
UID:4626108:Event:1820
DTSTAMP:20260425T215933Z
SUMMARY:Athena Network Lunch, Esher
DESCRIPTION:Athena Network Lunch, Esher\n\nThe Athena Network is the f
 astest growing business women's network in the UK, with over 130 Athen
 a Network groups nationwide. Due to increasing demand in Surrey, and s
 uccessful groups already established in Weybridge & Cobham, we are del
 ighted to have recently launched in Esher! And local business women ar
 e clearly loving the different networking experience that Athena deliv
 ers! Come and find out for yourself what it's all about...\n\nCOST: Gu
 ests - £25 including lunch, refreshments & Athena information pack. M
 embers - £20\nBOOK HERE: Pre-registration is essential - if would lik
 e to join us, please let us know 48 hours before the Meeting, so that 
 we can reserve a place for you, as our events do sell out.\nContact Tr
 icia Taylor 01932 882 340tricia.taylor@theathenanetwork.com or NiS Mem
 ber Robyn Hatley 01932 422 573 robyn.hatley@theathenanetwork.com\nMAP\
 nVENUE\n----------------\nThe Athena Network has 130 Athena Network gr
 oups nationwide running focused, yet relaxed, networking lunches for l
 ocal business women. Our business meetings include open networking, gu
 est speakers, business training and the opportunity to promote your ow
 n business - whether well-established or starting out. NiS Member Roby
 n Hatley is co-Regional Director for Athena North Surrey, together wit
 h Tricia Taylor.\n\nFor more information visit https://networkinginsur
 rey.co.uk/events/athena-network-lunch-esher
DTSTART;TZID=Europe/London:20100427T120000
DTEND;TZID=Europe/London:20100427T140000
CATEGORIES:lunch, women, esher, athena_network
LOCATION:The Bear, Esher KT10 9RQ
WEBSITE:http://www.athenanorthsurrey.co.uk/esher/
URL:http://www.athenanorthsurrey.co.uk/esher/
CONTACT:Robyn 01932 422573, Tricia 01932 882340
ORGANIZER:Robyn Hatley
ATTACH;FMTTYPE="image/jpeg":http://storage.ning.com/topology/rest/1.0/
 file/get/2591379091?profile=original
END:VEVENT
END:VCALENDAR
