BEGIN:VCALENDAR
PRODID:NingEventWidget-v1
VERSION:2.0
METHOD:PUBLISH
BEGIN:VTIMEZONE
TZID:Europe/London
X-LIC-LOCATION:Europe/London
BEGIN:DAYLIGHT
TZOFFSETFROM:+0000
TZOFFSETTO:+0100
TZNAME:BST
DTSTART:19700329T010000
RRULE:FREQ=YEARLY;BYMONTH=3;BYDAY=-1SU
END:DAYLIGHT
BEGIN:STANDARD
TZOFFSETFROM:+0100
TZOFFSETTO:+0000
TZNAME:GMT
DTSTART:19701025T020000
RRULE:FREQ=YEARLY;BYMONTH=10;BYDAY=-1SU
END:STANDARD
END:VTIMEZONE
BEGIN:VEVENT
UID:4626108:Event:3399
DTSTAMP:20260425T151304Z
SUMMARY:Athena Network Lunch, Esher
DESCRIPTION:Athena Network Lunch, Esher\n\nThe Athena Network is the f
 astest growing business women's network in the UK, with over 130 Athen
 a Network groups nationwide. We run focused, yet relaxed, networking l
 unches for local business women. We also train you in how to network e
 ffectively, so whether you are new or experienced at networking, Athen
 a welcomes you!\nThis month's Guest Speaker is Philip Waite from zuuMe
 dia\nzuuMedia specialises in enabling business owners to focus on thei
 r business not their technology. Technology is critical for every busi
 ness and you need someone to advise and support you at all times. This
  is why Philip set up zuuMedia. By the end of the talk you will know 6
  critical technology tips all business owners need to grow and protect
  their business:\n■Don't be afraid of technology – embrace it\n■
 Why backing up your data is essential\n■How important CRM is to your
  business\n■Some key and easy tips for your website\n■Where to tur
 n when you need support\n\n\nCOST: Guests - £25 including lunch, refr
 eshments & Athena information pack. Members - £20\nBOOK HERE: Pre-reg
 istration is essential - if would like to join us, please let us know 
 48 hours before the Meeting, so that we can reserve a place for you, a
 s our events do sell out.\nContact Tricia Taylor 01932 882 340tricia.t
 aylor@theathenanetwork.com or NiS Member Robyn Hatley 01932 422 573 ro
 byn.hatley@theathenanetwork.com\nMAP\nVENUE\nThere is limited parking 
 in The Bear's own car park (usually adequate at lunchtime)\n----------
 ----------------------\nThe Athena Network is the fastest growing busi
 ness women's network in the UK. Athena business lunch meetings run fro
 m 12 noon to 2pm and have informal networking time, a sit-down lunch a
 nd the opportunity to promote your own business. We also have business
  speakers on topics very relevant to women in business, plus the chanc
 e for you to identify people you want to meet up with in the future or
  to talk about a particular business experience that you’d like to s
 hare. Each Athena business support and networking group attracts a hig
 hly stimulating mix of professionals. Membership is managed strategica
 lly to maintain the right level of diversity across sectors and ensure
  no more than one member from any individual business type within a se
 ctor\n NiS Member Robyn Hatley is co-Regional Director for Athena Nort
 h Surrey, together with Tricia Taylor.\n\nFor more information visit h
 ttps://networkinginsurrey.co.uk/events/athena-network-lunch-esher-2
DTSTART;TZID=Europe/London:20100928T120000
DTEND;TZID=Europe/London:20100928T140000
CATEGORIES:lunch, women, esher, athena_network, business_network_surre
 y
LOCATION:The Bear, Esher KT10 9RQ
WEBSITE:http://www.athenanorthsurrey.co.uk/esher/
URL:http://www.athenanorthsurrey.co.uk/esher/
CONTACT:Robyn 01932 422573, Tricia 01932 882340
ORGANIZER:Robyn Hatley
ATTACH;FMTTYPE="image/jpeg":http://storage.ning.com/topology/rest/1.0/
 file/get/2591379091?profile=original
END:VEVENT
END:VCALENDAR
