BEGIN:VCALENDAR
PRODID:NingEventWidget-v1
VERSION:2.0
METHOD:PUBLISH
BEGIN:VTIMEZONE
TZID:Europe/London
X-LIC-LOCATION:Europe/London
BEGIN:DAYLIGHT
TZOFFSETFROM:+0000
TZOFFSETTO:+0100
TZNAME:BST
DTSTART:19700329T010000
RRULE:FREQ=YEARLY;BYMONTH=3;BYDAY=-1SU
END:DAYLIGHT
BEGIN:STANDARD
TZOFFSETFROM:+0100
TZOFFSETTO:+0000
TZNAME:GMT
DTSTART:19701025T020000
RRULE:FREQ=YEARLY;BYMONTH=10;BYDAY=-1SU
END:STANDARD
END:VTIMEZONE
BEGIN:VEVENT
UID:4626108:Event:1583
DTSTAMP:20260426T004643Z
SUMMARY:Athena Network Lunch, Cobham
DESCRIPTION:Athena Network Lunch, Cobham\n\nDue to increasing demand i
 n Surrey, and an established Athena group in Weybridge, we are delight
 ed to now have a group in Cobham. We run focused, yet relaxed, network
 ing lunches for local business women. Our business meetings include op
 en networking, guest speakers, business training and the opportunity t
 o promote your own business - whether well-established or starting out
 . We also effectively train you in how to network effectively, so whet
 her you are new or experienced at networking, Athena welcomes you!\nCO
 ST: Guests - £25 including lunch, refreshments & Athena information p
 ack. Members - £20\nBOOK HERE: Pre-registration is essential - if wou
 ld like to join us, please let us know 48 hours before the Meeting, so
  that we can reserve a place for you, as our events do sell out.\nCont
 act Tricia Taylor 01932 882 340tricia.taylor@theathenanetwork.com or R
 obyn Hatley 01932 422 573 robyn.hatley@theathenanetwork.com\nMAP\nVENU
 E\n--------------------------------\nThe Athena Network is the fastest
  growing business women's network in the UK, and we have now launched 
 in Cobham! The Athena Network has over 130 Athena Network groups natio
 nwide. NiS Member Robyn Hatley is co-Regional Director for Athena Nort
 h Surrey, together with Tricia Taylor.\n\nFor more information visit h
 ttps://networkinginsurrey.co.uk/events/athena-network-lunch-cobham
DTSTART;TZID=Europe/London:20100414T120000
DTEND;TZID=Europe/London:20100414T140000
CATEGORIES:lunch, women, cobham, athena_womens_network
LOCATION:HIlton Hotel, Cobham KT11 1EW
WEBSITE:http://www.athenanorthsurrey.co.uk
URL:http://www.athenanorthsurrey.co.uk
CONTACT:01932 422 573 Robyn Hatley
ORGANIZER:Robyn Hatley, NiS Member
ATTACH;FMTTYPE="image/jpeg":http://storage.ning.com/topology/rest/1.0/
 file/get/2591378736?profile=original
ATTENDEE;ROLE=REQ-PARTICIPANT;PARTSTAT=TENTATIVE;RSVP=TRUE;CN="Heidi R
 ice":https://networkinginsurrey.co.uk/profile/HeidiRice
END:VEVENT
END:VCALENDAR
