BEGIN:VCALENDAR
PRODID:NingEventWidget-v1
VERSION:2.0
METHOD:PUBLISH
BEGIN:VTIMEZONE
TZID:Europe/London
X-LIC-LOCATION:Europe/London
BEGIN:DAYLIGHT
TZOFFSETFROM:+0000
TZOFFSETTO:+0100
TZNAME:BST
DTSTART:19700329T010000
RRULE:FREQ=YEARLY;BYMONTH=3;BYDAY=-1SU
END:DAYLIGHT
BEGIN:STANDARD
TZOFFSETFROM:+0100
TZOFFSETTO:+0000
TZNAME:GMT
DTSTART:19701025T020000
RRULE:FREQ=YEARLY;BYMONTH=10;BYDAY=-1SU
END:STANDARD
END:VTIMEZONE
BEGIN:VEVENT
UID:4626108:Event:3391
DTSTAMP:20260425T214641Z
SUMMARY:Athena Network Lunch, Cobham
DESCRIPTION:Athena Network Lunch, Cobham\n\nWe run focused, yet relaxe
 d, networking lunches for local business women. Our business meetings 
 include open networking, guest speakers, business training and the opp
 ortunity to promote your own business - whether well-established or st
 arting out. We also train you in how to network effectively, so whethe
 r you are new or experienced at networking, Athena welcomes you!\nCOST
 : Guests - £25 including lunch, refreshments & Athena information pac
 k. Members - £20\nBOOK HERE: Pre-registration is essential - if would
  like to join us, please let us know 48 hours before the Meeting, so t
 hat we can reserve a place for you, as our events do sell out.\nContac
 t Tricia Taylor 01932 882 340tricia.taylor@theathenanetwork.com or NiS
  Member Robyn Hatley 01932 422 573 robyn.hatley@theathenanetwork.com\n
 MAP\nVENUE\nPLEASE NOTE - If you're coming frorm the Watlon - Hersham 
 direction Seven Hills Road will be closed from 20 June - 29 August so 
 you'll need to find an alternative route.\n---------------------------
 -----\nThe Athena Network is the fastest growing business women's netw
 ork in the UK. Athena business lunch meetings run from 12 noon to 2pm 
 and have informal networking time, a sit-down lunch and the opportunit
 y to promote your own business. We also have business speakers on topi
 cs very relevant to women in business, plus the chance for you to iden
 tify people you want to meet up with in the future or to talk about a 
 particular business experience that you’d like to share. Each Athena
  business support and networking group attracts a highly stimulating m
 ix of professionals. Membership is managed strategically to maintain t
 he right level of diversity across sectors and ensure no more than one
  member from any individual business type within a sector\n The Athena
  Network has over 130 Athena Network groups nationwide. NiS Member Rob
 yn Hatley is co-Regional Director for Athena North Surrey, together wi
 th Tricia Taylor.\n\nFor more information visit https://networkinginsu
 rrey.co.uk/events/athena-network-lunch-cobham-4
DTSTART;TZID=Europe/London:20100908T120000
DTEND;TZID=Europe/London:20100908T140000
CATEGORIES:lunch, women, cobham, athena_womens_network, business_netwo
 rking
LOCATION:HIlton Hotel, Cobham KT11 1EW
WEBSITE:http://www.athenanorthsurrey.co.uk
URL:http://www.athenanorthsurrey.co.uk
CONTACT:01932 422 573 Robyn Hatley
ORGANIZER:Robyn Hatley
ATTACH;FMTTYPE="image/jpeg":http://storage.ning.com/topology/rest/1.0/
 file/get/2591378736?profile=original
END:VEVENT
END:VCALENDAR
