BEGIN:VCALENDAR
PRODID:NingEventWidget-v1
VERSION:2.0
METHOD:PUBLISH
BEGIN:VTIMEZONE
TZID:Europe/London
X-LIC-LOCATION:Europe/London
BEGIN:DAYLIGHT
TZOFFSETFROM:+0000
TZOFFSETTO:+0100
TZNAME:BST
DTSTART:19700329T010000
RRULE:FREQ=YEARLY;BYMONTH=3;BYDAY=-1SU
END:DAYLIGHT
BEGIN:STANDARD
TZOFFSETFROM:+0100
TZOFFSETTO:+0000
TZNAME:GMT
DTSTART:19701025T020000
RRULE:FREQ=YEARLY;BYMONTH=10;BYDAY=-1SU
END:STANDARD
END:VTIMEZONE
BEGIN:VEVENT
UID:4626108:Event:2888
DTSTAMP:20260425T225818Z
SUMMARY:Athena Network Lunch, Cobham
DESCRIPTION:Athena Network Lunch, Cobham\n\nWe run focused, yet relaxe
 d, networking lunches for local business women. Our business meetings 
 include open networking, guest speakers, business training and the opp
 ortunity to promote your own business - whether well-established or st
 arting out. We also effectively train you in how to network effectivel
 y, so whether you are new or experienced at networking, Athena welcome
 s you!\nCOST: Guests - £25 including lunch, refreshments & Athena inf
 ormation pack. Members - £20\nBOOK HERE: Pre-registration is essentia
 l - if would like to join us, please let us know 48 hours before the M
 eeting, so that we can reserve a place for you, as our events do sell 
 out.\nContact Tricia Taylor 01932 882 340tricia.taylor@theathenanetwor
 k.com or NiS Member Robyn Hatley 01932 422 573 robyn.hatley@theathenan
 etwork.com\nMAP\nVENUE\nPLEASE NOTE - If you're coming frorm the Watlo
 n - Hersham direction Seven Hills Road will be closed from 20 June - 2
 9 August so you'll need to find an alternative route.\n---------------
 -----------------\nThe Athena Network is the fastest growing business 
 women's network in the UK, and we have now launched in Cobham!\n The A
 thena Network has over 130 Athena Network groups nationwide. NiS Membe
 r Robyn Hatley is co-Regional Director for Athena North Surrey, togeth
 er with Tricia Taylor.\n\nFor more information visit https://networkin
 ginsurrey.co.uk/events/athena-network-lunch-cobham-3
DTSTART;TZID=Europe/London:20100714T120000
DTEND;TZID=Europe/London:20100714T140000
CATEGORIES:lunch, women, cobham, athena_womens_network, business_netwo
 rking
LOCATION:HIlton Hotel, Cobham KT11 1EW
WEBSITE:http://www.athenanorthsurrey.co.uk
URL:http://www.athenanorthsurrey.co.uk
CONTACT:01932 422 573 Robyn Hatley
ORGANIZER:Robyn Hatley
ATTACH;FMTTYPE="image/jpeg":http://storage.ning.com/topology/rest/1.0/
 file/get/2591378736?profile=original
END:VEVENT
END:VCALENDAR
