BEGIN:VCALENDAR
PRODID:NingEventWidget-v1
VERSION:2.0
METHOD:PUBLISH
BEGIN:VTIMEZONE
TZID:Europe/London
X-LIC-LOCATION:Europe/London
BEGIN:DAYLIGHT
TZOFFSETFROM:+0000
TZOFFSETTO:+0100
TZNAME:BST
DTSTART:19700329T010000
RRULE:FREQ=YEARLY;BYMONTH=3;BYDAY=-1SU
END:DAYLIGHT
BEGIN:STANDARD
TZOFFSETFROM:+0100
TZOFFSETTO:+0000
TZNAME:GMT
DTSTART:19701025T020000
RRULE:FREQ=YEARLY;BYMONTH=10;BYDAY=-1SU
END:STANDARD
END:VTIMEZONE
BEGIN:VEVENT
UID:4626108:Event:2558
DTSTAMP:20260425T214642Z
SUMMARY:Athena Network Lunch, Cobham
DESCRIPTION:Athena Network Lunch, Cobham\n\nDue to increasing demand i
 n Surrey, and an established Athena group in Weybridge, we are delight
 ed to now have a group in Cobham. We run focused, yet relaxed, network
 ing lunches for local business women. Our business meetings include op
 en networking, guest speakers, business training and the opportunity t
 o promote your own business - whether well-established or starting out
 . We also effectively train you in how to network effectively, so whet
 her you are new or experienced at networking, Athena welcomes you!\nTh
 is month we welcome Sally Hindmarch of Partners With You (www.partners
 withyou.co.uk) The many P’s of Presenting your minute\n\nYour minute
  is like a TV advert - your chance to attract attention and gain inter
 est in your business. Sally of Partners With You, looks at some of the
  ways that you can help yourself to be more memorable and impactful. P
 artners With You Ltd. (which are about to celebrate their 10th birthda
 y), use the skills of professional actors to help people in business l
 ook, sound and feel more confident.\n\nAttendees will learn:\n\n1. The
  importance of Preparation\n\n2. How to gain interest\n\n3. How to get
  others to want to know more\n\n\nCOST: Guests - £25 including lunch,
  refreshments & Athena information pack. Members - £20\nBOOK HERE: Pr
 e-registration is essential - if would like to join us, please let us 
 know 48 hours before the Meeting, so that we can reserve a place for y
 ou, as our events do sell out.\nContact Tricia Taylor 01932 882 340tri
 cia.taylor@theathenanetwork.com or NiS Member Robyn Hatley 01932 422 5
 73 robyn.hatley@theathenanetwork.com\nMAP\nVENUE\n--------------------
 ------------\nThe Athena Network is the fastest growing business women
 's network in the UK, and we have now launched in Cobham! The Athena N
 etwork has over 130 Athena Network groups nationwide. NiS Member Robyn
  Hatley is co-Regional Director for Athena North Surrey, together with
  Tricia Taylor.\n\nFor more information visit https://networkinginsurr
 ey.co.uk/events/athena-network-lunch-cobham-2
DTSTART;TZID=Europe/London:20100609T120000
DTEND;TZID=Europe/London:20100609T140000
CATEGORIES:lunch, women, cobham, athena_womens_network, business_netwo
 rking
LOCATION:HIlton Hotel, Cobham KT11 1EW
WEBSITE:
URL:
CONTACT:01932 422 573 Robyn Hatley
ORGANIZER:Robyn Hatley
ATTACH;FMTTYPE="image/jpeg":http://storage.ning.com/topology/rest/1.0/
 file/get/2591378736?profile=original
ATTENDEE;ROLE=REQ-PARTICIPANT;PARTSTAT=ACCEPTED;RSVP=TRUE;CN="Rosemary
  Hemmett":https://networkinginsurrey.co.uk/profile/RosemaryHemmett
ATTENDEE;ROLE=REQ-PARTICIPANT;PARTSTAT=ACCEPTED;RSVP=TRUE;CN="Keith Gr
 over, NiS Founder":https://networkinginsurrey.co.uk/profile/KeithGrove
 r
END:VEVENT
END:VCALENDAR
