BEGIN:VCALENDAR
PRODID:NingEventWidget-v1
VERSION:2.0
METHOD:PUBLISH
BEGIN:VTIMEZONE
TZID:Europe/London
X-LIC-LOCATION:Europe/London
BEGIN:DAYLIGHT
TZOFFSETFROM:+0000
TZOFFSETTO:+0100
TZNAME:BST
DTSTART:19700329T010000
RRULE:FREQ=YEARLY;BYMONTH=3;BYDAY=-1SU
END:DAYLIGHT
BEGIN:STANDARD
TZOFFSETFROM:+0100
TZOFFSETTO:+0000
TZNAME:GMT
DTSTART:19701025T020000
RRULE:FREQ=YEARLY;BYMONTH=10;BYDAY=-1SU
END:STANDARD
END:VTIMEZONE
BEGIN:VEVENT
UID:4626108:Event:74977
DTSTAMP:20260426T015805Z
SUMMARY:Athena Network Lunch, Chertsey
DESCRIPTION:Athena Lunch at The Crown\nWe run focused, yet relaxed, ne
 tworking lunches for local business women in the Esher area for both A
 thena members & visitors.\nWe meet every month at our highly popular l
 unches that include open networking, guest speakers, business training
  and the opportunity to promote your own business - whether well-estab
 lished or starting out.\nThis month's guest speaker is Frances Armes 
 of Addonovo. \n\nFrances has been in the people development business 
 for over 25 years and spent her career helping people to find the skil
 ls, understanding and motivation to become better leaders and managers
 .\nFrances's talk will be entitled: \"Taking control of your life… n
 ot the TV remote\"\nHow often do you find yourself putting off that ar
 ticle you need to write, the proposal you need to finish or clearing o
 ut your inbox. If you find yourself procrastinating and doing busy wor
 k instead come and find out what can you do to be in control\nWhat wil
 l our attendees be able to learn\nTips on how to find the motivation a
 nd practices to tackle the hard stuff along with practical tools to ta
 ke control of your to do list and your inbox.\n\nCOST: £28 for visi
 tors (including lunch, refreshments, an Athena information pack, VAT) 
 - £24 for Athena members\nBOOKING: Call Claire on 07877 705247  o
 r email pa.clairepelenc@theathenanetwork.com\nMAP\n ------------------
 -------------------------\nEVENT ORGANISERS:\nThe Athena Network, The 
 Premier Networking Organisation for Women In Business\nFocusing exclus
 ively on women in business fulfilling a business development role, The
  Athena Network offers inspiring opportunities to engage with business
  owners and decision makers from diverse industry sectors. Founded on 
 values of respect and integrity, Athena groups are committed to welcom
 ing members and visitors in a relaxed, mutually supportive and ethical
  environment.\nAt the heart of Athena’s activities, networking group
 s meet each month over a good lunch in an attractive venue to make new
  contacts, develop valuable business expertise and explore visionary i
 deas. Additional local and regional initiatives provide excellent memb
 ership value, through motivational workshops on networking skills and 
 business planning, social events, training courses, business retreats 
 and one-to-one consultancy services.\nVibrant and fast-growing, Athena
  is the UK’s premier business networking organisation for women in b
 usiness and is establishing a significant international presence.\n\nF
 or more information visit https://networkinginsurrey.co.uk/events/athe
 na-network-lunch-chertsey-6
DTSTART;TZID=Europe/London:20151020T120000
DTEND;TZID=Europe/London:20151020T140000
CATEGORIES:business, women, networking, lunch
LOCATION:The Crown Hotel - KT16 8AP
WEBSITE:http://theathenanetwork.co.uk/ClairePelenc/
URL:http://theathenanetwork.co.uk/ClairePelenc/
CONTACT:07877705247
ORGANIZER:Claire Pelenc
ATTACH;FMTTYPE="image/jpeg":http://storage.ning.com/topology/rest/1.0/
 file/get/2591439354?profile=original
ATTENDEE;ROLE=REQ-PARTICIPANT;PARTSTAT=ACCEPTED;RSVP=TRUE;CN="Gilles P
 elenc":https://networkinginsurrey.co.uk/profile/GillesPelenc
END:VEVENT
END:VCALENDAR
