BEGIN:VCALENDAR
PRODID:NingEventWidget-v1
VERSION:2.0
METHOD:PUBLISH
BEGIN:VTIMEZONE
TZID:Europe/London
X-LIC-LOCATION:Europe/London
BEGIN:DAYLIGHT
TZOFFSETFROM:+0000
TZOFFSETTO:+0100
TZNAME:BST
DTSTART:19700329T010000
RRULE:FREQ=YEARLY;BYMONTH=3;BYDAY=-1SU
END:DAYLIGHT
BEGIN:STANDARD
TZOFFSETFROM:+0100
TZOFFSETTO:+0000
TZNAME:GMT
DTSTART:19701025T020000
RRULE:FREQ=YEARLY;BYMONTH=10;BYDAY=-1SU
END:STANDARD
END:VTIMEZONE
BEGIN:VEVENT
UID:4626108:Event:74662
DTSTAMP:20260426T032419Z
SUMMARY:Athena Network Lunch, Chertsey
DESCRIPTION:Athena Lunch at The Crown\nWe run focused, yet relaxed, ne
 tworking lunches for local business women in the Esher area for both A
 thena members & visitors.\nWe meet every month at our highly popular l
 unches that include open networking, guest speakers, business training
  and the opportunity to promote your own business - whether well-estab
 lished or starting out.\nThis month's guest speaker isÂ Lynn Stanier.Â
  \n\nLynn is the Founder and CEO of Their Future Today, a charity esta
 blished in 2005 to help alleviate child abandonment and poverty throug
 h education in Sri Lanka.\nLynn's talk will be entitled: \"Carpe Diem\
 "\n\"I will talk about the tragedy of orphanages. How society can help
  end the suffering of children in institutionalised care, why children
  need families and how education changes lives.\"\nWhat will our atten
 dees be able to learn?\nAlthough we cannot change the whole world, we 
 can change the whole world for one child at a time and make what seems
  the impossible, possible.\nWe just need to seize the day!\n\nCOST:Â Â
 £28Â for visitors (including lunch, refreshments, an Athena informatio
 n pack, VAT) - Â£24Â for Athena members\nBOOKING: Call Claire onÂ 0787
 7 705247Â Â or email pa.clairepelenc@theathenanetwork.com\nMAP\n -----
 --------------------------------------\nEVENT ORGANISERS:\nThe Athena 
 Network, The Premier Networking Organisation for Women In Business\nFo
 cusing exclusively on women in business fulfilling a business developm
 ent role, The Athena Network offers inspiring opportunities to engage 
 with business owners and decision makers from diverse industry sectors
 . Founded on values of respect and integrity, Athena groups are commit
 ted to welcoming members and visitors in a relaxed, mutually supportiv
 e and ethical environment.\nAt the heart of Athenaâ€™s activities, net
 working groups meet each month over a good lunch in an attractive venu
 e to make new contacts, develop valuable business expertise and explor
 e visionary ideas. Additional local and regional initiatives provide e
 xcellent membership value, through motivational workshops on networkin
 g skills and business planning, social events, training courses, busin
 ess retreats and one-to-one consultancy services.\nVibrant and fast-gr
 owing, Athena is the UKâ€™s premier business networking organisation f
 or women in business and is establishing a significant international p
 resence.\n\nFor more information visit https://networkinginsurrey.co.u
 k/events/athena-network-lunch-chertsey-5
DTSTART;TZID=Europe/London:20150922T120000
DTEND;TZID=Europe/London:20150922T140000
CATEGORIES:business, women, networking, lunch
LOCATION:The Crown Hotel - KT16 8AP
WEBSITE:http://theathenanetwork.co.uk/ClairePelenc/
URL:http://theathenanetwork.co.uk/ClairePelenc/
CONTACT:07877705247
ORGANIZER:Claire Pelenc
ATTACH;FMTTYPE="image/jpeg":http://storage.ning.com/topology/rest/1.0/
 file/get/2591439354?profile=original
ATTENDEE;ROLE=REQ-PARTICIPANT;PARTSTAT=ACCEPTED;RSVP=TRUE;CN="Gilles P
 elenc":https://networkinginsurrey.co.uk/profile/GillesPelenc
END:VEVENT
END:VCALENDAR
