BEGIN:VCALENDAR
PRODID:NingEventWidget-v1
VERSION:2.0
METHOD:PUBLISH
BEGIN:VTIMEZONE
TZID:Europe/London
X-LIC-LOCATION:Europe/London
BEGIN:DAYLIGHT
TZOFFSETFROM:+0000
TZOFFSETTO:+0100
TZNAME:BST
DTSTART:19700329T010000
RRULE:FREQ=YEARLY;BYMONTH=3;BYDAY=-1SU
END:DAYLIGHT
BEGIN:STANDARD
TZOFFSETFROM:+0100
TZOFFSETTO:+0000
TZNAME:GMT
DTSTART:19701025T020000
RRULE:FREQ=YEARLY;BYMONTH=10;BYDAY=-1SU
END:STANDARD
END:VTIMEZONE
BEGIN:VEVENT
UID:4626108:Event:286071
DTSTAMP:20260422T194850Z
SUMMARY:Athena Network Lunch, Chertsey
DESCRIPTION:Athena Lunch at The Crown\r\nWe run focused, yet relaxed, 
 networking lunches for local business women in the Chertsey area for b
 oth Athena members & visitors.\r\nWe meet every month at our highly po
 pular lunches that include open networking, guest speakers, business t
 raining and the opportunity to promote your own business - whether wel
 l-established or starting out.\r\nThis month's guest speaker: TBC\r\n\
 r\nCOST: £28 for visitors (including lunch, refreshments, an Athena
  information pack, VAT) - £24 for Athena members\r\nBOOKING: Call Cl
 aire on 07877 705247  or email claire.pelenc@theathenanetwork.com\r
 \nMAP\r\n\r\n -------------------------------------------\r\nEVENT ORG
 ANISERS:\r\nThe Athena Network, The Premier Networking Organisation fo
 r Women In Business\r\nFocusing exclusively on women in business fulfi
 lling a business development role, The Athena Network offers inspiring
  opportunities to engage with business owners and decision makers from
  diverse industry sectors. Founded on values of respect and integrity,
  Athena groups are committed to welcoming members and visitors in a re
 laxed, mutually supportive and ethical environment.\r\nAt the heart of
  Athena’s activities, networking groups meet each month over a good 
 lunch in an attractive venue to make new contacts, develop valuable bu
 siness expertise and explore visionary ideas. Additional local and reg
 ional initiatives provide excellent membership value, through motivati
 onal workshops on networking skills and business planning, social even
 ts, training courses, business retreats and one-to-one consultancy ser
 vices.\r\nVibrant and fast-growing, Athena is the UK’s premier busin
 ess networking organisation for women in business and is establishing 
 a significant international presence.\n\nFor more information visit ht
 tps://networkinginsurrey.co.uk/events/athena-network-lunch-chertsey-20
DTSTART;TZID=Europe/London:20200225T120000
DTEND;TZID=Europe/London:20200225T140000
CATEGORIES:business, women, networking, lunch
LOCATION:The Crown Hotel KT16 8AP
WEBSITE:https://theathenanetwork.com/clairepelenc/
URL:https://theathenanetwork.com/clairepelenc/
CONTACT:07877705247
ORGANIZER:Claire Pelenc
ATTACH;FMTTYPE="image/jpeg":https://storage.ning.com/topology/rest/1.0
 /file/get/1775117945?profile=original
ATTENDEE;ROLE=REQ-PARTICIPANT;PARTSTAT=ACCEPTED;RSVP=TRUE;CN="Gilles P
 elenc":https://networkinginsurrey.co.uk/profile/GillesPelenc
END:VEVENT
END:VCALENDAR
