BEGIN:VCALENDAR
PRODID:NingEventWidget-v1
VERSION:2.0
METHOD:PUBLISH
BEGIN:VTIMEZONE
TZID:Europe/London
X-LIC-LOCATION:Europe/London
BEGIN:DAYLIGHT
TZOFFSETFROM:+0000
TZOFFSETTO:+0100
TZNAME:BST
DTSTART:19700329T010000
RRULE:FREQ=YEARLY;BYMONTH=3;BYDAY=-1SU
END:DAYLIGHT
BEGIN:STANDARD
TZOFFSETFROM:+0100
TZOFFSETTO:+0000
TZNAME:GMT
DTSTART:19701025T020000
RRULE:FREQ=YEARLY;BYMONTH=10;BYDAY=-1SU
END:STANDARD
END:VTIMEZONE
BEGIN:VEVENT
UID:4626108:Event:96825
DTSTAMP:20260422T232749Z
SUMMARY:Athena Network Lunch, Chertsey
DESCRIPTION:Athena Lunch at The Crown\nWe run focused, yet relaxed, ne
 tworking lunches for local business women in the Chertsey area for bot
 h Athena members & visitors.\nWe meet every month at our highly popula
 r lunches that include open networking, guest speakers, business train
 ing and the opportunity to promote your own business - whether well-es
 tablished or starting out.\nThis month's guest speaker: TBC\n\nCOST: 
 £28 for visitors (including lunch, refreshments, an Athena informati
 on pack, VAT) - £24 for Athena members\nBOOKING: Call Claire on 078
 77 705247  or email claire.pelenc@theathenanetwork.com\nMAP\n ------
 -------------------------------------\nEVENT ORGANISERS:\nThe Athena N
 etwork, The Premier Networking Organisation for Women In Business\nFoc
 using exclusively on women in business fulfilling a business developme
 nt role, The Athena Network offers inspiring opportunities to engage w
 ith business owners and decision makers from diverse industry sectors.
  Founded on values of respect and integrity, Athena groups are committ
 ed to welcoming members and visitors in a relaxed, mutually supportive
  and ethical environment.\nAt the heart of Athena’s activities, netw
 orking groups meet each month over a good lunch in an attractive venue
  to make new contacts, develop valuable business expertise and explore
  visionary ideas. Additional local and regional initiatives provide ex
 cellent membership value, through motivational workshops on networking
  skills and business planning, social events, training courses, busine
 ss retreats and one-to-one consultancy services.\nVibrant and fast-gro
 wing, Athena is the UK’s premier business networking organisation fo
 r women in business and is establishing a significant international pr
 esence.\n\nFor more information visit https://networkinginsurrey.co.uk
 /events/athena-network-lunch-chertsey-18
DTSTART;TZID=Europe/London:20180424T120000
DTEND;TZID=Europe/London:20180424T140000
CATEGORIES:business, women, networking, lunch
LOCATION:The Crown Hotel - KT16 8AP
WEBSITE:http://theathenanetwork.co.uk/ClairePelenc/
URL:http://theathenanetwork.co.uk/ClairePelenc/
CONTACT:07877705247
ORGANIZER:Claire Pelenc
ATTACH;FMTTYPE="image/jpeg":http://storage.ning.com/topology/rest/1.0/
 file/get/1858656965?profile=original
ATTENDEE;ROLE=REQ-PARTICIPANT;PARTSTAT=ACCEPTED;RSVP=TRUE;CN="Gilles P
 elenc":https://networkinginsurrey.co.uk/profile/GillesPelenc
END:VEVENT
END:VCALENDAR
