BEGIN:VCALENDAR
PRODID:NingEventWidget-v1
VERSION:2.0
METHOD:PUBLISH
BEGIN:VTIMEZONE
TZID:Europe/London
X-LIC-LOCATION:Europe/London
BEGIN:DAYLIGHT
TZOFFSETFROM:+0000
TZOFFSETTO:+0100
TZNAME:BST
DTSTART:19700329T010000
RRULE:FREQ=YEARLY;BYMONTH=3;BYDAY=-1SU
END:DAYLIGHT
BEGIN:STANDARD
TZOFFSETFROM:+0100
TZOFFSETTO:+0000
TZNAME:GMT
DTSTART:19701025T020000
RRULE:FREQ=YEARLY;BYMONTH=10;BYDAY=-1SU
END:STANDARD
END:VTIMEZONE
BEGIN:VEVENT
UID:4626108:Event:96823
DTSTAMP:20260422T232749Z
SUMMARY:Athena Network Lunch, Chertsey
DESCRIPTION:Athena Lunch at The Crown\nWe run focused, yet relaxed, ne
 tworking lunches for local business women in the Chertsey area for bot
 h Athena members & visitors.\nWe meet every month at our highly popula
 r lunches that include open networking, guest speakers, business train
 ing and the opportunity to promote your own business - whether well-es
 tablished or starting out.\nThis month's guest speaker: Vikki Paterson
  of Synergraphics\n\nCOST: £28 for visitors (including lunch, refre
 shments, an Athena information pack, VAT) - £24 for Athena members\n
 BOOKING: Call Claire on 07877 705247  or email claire.pelenc@theath
 enanetwork.com\nMAP\n -------------------------------------------\nEVE
 NT ORGANISERS:\nThe Athena Network, The Premier Networking Organisatio
 n for Women In Business\nFocusing exclusively on women in business ful
 filling a business development role, The Athena Network offers inspiri
 ng opportunities to engage with business owners and decision makers fr
 om diverse industry sectors. Founded on values of respect and integrit
 y, Athena groups are committed to welcoming members and visitors in a 
 relaxed, mutually supportive and ethical environment.\nAt the heart of
  Athena’s activities, networking groups meet each month over a good 
 lunch in an attractive venue to make new contacts, develop valuable bu
 siness expertise and explore visionary ideas. Additional local and reg
 ional initiatives provide excellent membership value, through motivati
 onal workshops on networking skills and business planning, social even
 ts, training courses, business retreats and one-to-one consultancy ser
 vices.\nVibrant and fast-growing, Athena is the UK’s premier busines
 s networking organisation for women in business and is establishing a 
 significant international presence.\n\nFor more information visit http
 s://networkinginsurrey.co.uk/events/athena-network-lunch-chertsey-17
DTSTART;TZID=Europe/London:20180327T120000
DTEND;TZID=Europe/London:20180327T140000
CATEGORIES:business, women, networking, lunch
LOCATION:The Crown Hotel - KT16 8AP
WEBSITE:http://theathenanetwork.co.uk/ClairePelenc/
URL:http://theathenanetwork.co.uk/ClairePelenc/
CONTACT:07877705247
ORGANIZER:Claire Pelenc
ATTACH;FMTTYPE="image/jpeg":http://storage.ning.com/topology/rest/1.0/
 file/get/1858656965?profile=original
ATTENDEE;ROLE=REQ-PARTICIPANT;PARTSTAT=ACCEPTED;RSVP=TRUE;CN="Gilles P
 elenc":https://networkinginsurrey.co.uk/profile/GillesPelenc
END:VEVENT
END:VCALENDAR
