BEGIN:VCALENDAR
PRODID:NingEventWidget-v1
VERSION:2.0
METHOD:PUBLISH
BEGIN:VTIMEZONE
TZID:Europe/London
X-LIC-LOCATION:Europe/London
BEGIN:DAYLIGHT
TZOFFSETFROM:+0000
TZOFFSETTO:+0100
TZNAME:BST
DTSTART:19700329T010000
RRULE:FREQ=YEARLY;BYMONTH=3;BYDAY=-1SU
END:DAYLIGHT
BEGIN:STANDARD
TZOFFSETFROM:+0100
TZOFFSETTO:+0000
TZNAME:GMT
DTSTART:19701025T020000
RRULE:FREQ=YEARLY;BYMONTH=10;BYDAY=-1SU
END:STANDARD
END:VTIMEZONE
BEGIN:VEVENT
UID:4626108:Event:95709
DTSTAMP:20260422T232742Z
SUMMARY:Athena Network Lunch, Chertsey
DESCRIPTION:Athena Lunch at The Crown\r\nWe run focused, yet relaxed, 
 networking lunches for local business women in the Chertsey area for b
 oth Athena members & visitors.\r\nWe meet every month at our highly po
 pular lunches that include open networking, guest speakers, business t
 raining and the opportunity to promote your own business - whether wel
 l-established or starting out.\r\nThis month's guest speaker: Claire 
 Ridley of Little Bureau Marketing \r\n\r\nCOST: £28 for visitors (
 including lunch, refreshments, an Athena information pack, VAT) - £24
  for Athena members\r\nBOOKING: Call Claire on 07877 705247  or em
 ail claire.pelenc@theathenanetwork.com\r\nMAP\r\n --------------------
 -----------------------\r\nEVENT ORGANISERS:\r\nThe Athena Network, Th
 e Premier Networking Organisation for Women In Business\r\nFocusing ex
 clusively on women in business fulfilling a business development role,
  The Athena Network offers inspiring opportunities to engage with busi
 ness owners and decision makers from diverse industry sectors. Founded
  on values of respect and integrity, Athena groups are committed to we
 lcoming members and visitors in a relaxed, mutually supportive and eth
 ical environment.\r\nAt the heart of Athena’s activities, networking
  groups meet each month over a good lunch in an attractive venue to ma
 ke new contacts, develop valuable business expertise and explore visio
 nary ideas. Additional local and regional initiatives provide excellen
 t membership value, through motivational workshops on networking skill
 s and business planning, social events, training courses, business ret
 reats and one-to-one consultancy services.\r\nVibrant and fast-growing
 , Athena is the UK’s premier business networking organisation for wo
 men in business and is establishing a significant international presen
 ce.\n\nFor more information visit https://networkinginsurrey.co.uk/eve
 nts/athena-network-lunch-chertsey-16
DTSTART;TZID=Europe/London:20180123T120000
DTEND;TZID=Europe/London:20180123T140000
CATEGORIES:business, women, networking, lunch
LOCATION:The Crown Hotel - KT16 8AP
WEBSITE:http://theathenanetwork.co.uk/ClairePelenc/
URL:http://theathenanetwork.co.uk/ClairePelenc/
CONTACT:07877705247
ORGANIZER:Claire Pelenc
ATTACH;FMTTYPE="image/jpeg":http://storage.ning.com/topology/rest/1.0/
 file/get/1858656965?profile=original
ATTENDEE;ROLE=REQ-PARTICIPANT;PARTSTAT=ACCEPTED;RSVP=TRUE;CN="Gilles P
 elenc":https://networkinginsurrey.co.uk/profile/GillesPelenc
END:VEVENT
END:VCALENDAR
