BEGIN:VCALENDAR
PRODID:NingEventWidget-v1
VERSION:2.0
METHOD:PUBLISH
BEGIN:VTIMEZONE
TZID:Europe/London
X-LIC-LOCATION:Europe/London
BEGIN:DAYLIGHT
TZOFFSETFROM:+0000
TZOFFSETTO:+0100
TZNAME:BST
DTSTART:19700329T010000
RRULE:FREQ=YEARLY;BYMONTH=3;BYDAY=-1SU
END:DAYLIGHT
BEGIN:STANDARD
TZOFFSETFROM:+0100
TZOFFSETTO:+0000
TZNAME:GMT
DTSTART:19701025T020000
RRULE:FREQ=YEARLY;BYMONTH=10;BYDAY=-1SU
END:STANDARD
END:VTIMEZONE
BEGIN:VEVENT
UID:4626108:Event:530240
DTSTAMP:20260424T145330Z
SUMMARY:Athena Haslemere Lunchtime Online
DESCRIPTION:The Athena Network: Haslemere Group - Guest Speaker Sarah 
 Palmer\n\nJoin us for business networking for women at The Athena Netw
 ork Haslemere\nYou're welcome to visit us at our monthly business netw
 orking lunch, with like-minded businesswomen, entrepreneurs and execut
 ives. We are a fabulous group of women from a wide range of industry s
 ectors, who are passionate about their business and who are looking to
  connect with and build professional relationships with other local bu
 sinesswomen.\nNot just a networking group, The Athena Network has thre
 e aims:\n\nto create strategic connections/ collaborations\nto deliver
  and develop business skills through our business talks and workshops\
 nto inspire, motivate and support the women in our network\n\nAbout At
 hena Meetings\nAthena meetings are structured, interactive, informativ
 e, and professional whilst being fun and relaxed. We aim to create a v
 ibrant, thriving and dynamic community of women entrepreneurs and exec
 utives who collaborate and connect with like-minded women.\nOur meetin
 gs start at 12pm with \"open Zoom Room networking\" followed by a stru
 ctured meeting until 2pm. You'll have the opportunity to present a 60 
 second \"pitch\" for your business, so that we know who to connect you
  with and how to support you. We also have a different Business Develo
 pment Speaker each month.\nThis month our Business Development Speaker
  will be:\nSarah Palmer - Head at Camelsdale Primary School\nBooking y
 our Place\nVisitors are welcome, but booking is essential. We operate 
 a one slot per profession policy, so please check before you book that
  your profession isn't represented. You can view our members and their
  professions on our webpage. If you are not sure, please do call or em
 ail to check. \nSPECIAL OFFER: If you choose to join us after attend
 ing an online meeting, your visitor fee will be offset against the joi
 ning fee, meaning you effectively visit for free!\nCOST: £30.00\nBOOK
 ING: Please CLICK HERE to book your place\n---------------------------
 ---------------------------------\nTo find out more about Athena, plea
 se:\n• call me on 07501 124113\n• email: doris.holleufer@theathena
 network.com\n• take a look at our website\n• Find us on Facebook
 \n\n\nFor more information visit https://networkinginsurrey.co.uk/even
 ts/athena-haslemere-lunchtime-online
DTSTART;TZID=Europe/London:20211123T120000
DTEND;TZID=Europe/London:20211123T140000
CATEGORIES:virtual, networking
LOCATION:Haslemere
WEBSITE:http://www.theathenanetwork.co.uk/dorisholleufer
URL:http://www.theathenanetwork.co.uk/dorisholleufer
CONTACT:07501 124113
ORGANIZER;CN="Doris Holleufer":https://networkinginsurrey.co.uk/profil
 e/DorisHolleufer88
ATTACH;FMTTYPE="image/jpeg":https://storage.ning.com/topology/rest/1.0
 /file/get/9629922264?profile=original
ATTENDEE;ROLE=REQ-PARTICIPANT;PARTSTAT=ACCEPTED;RSVP=TRUE;CN="Doris Ho
 lleufer":https://networkinginsurrey.co.uk/profile/DorisHolleufer88
END:VEVENT
END:VCALENDAR
