BEGIN:VCALENDAR
PRODID:NingEventWidget-v1
VERSION:2.0
METHOD:PUBLISH
BEGIN:VTIMEZONE
TZID:Europe/London
X-LIC-LOCATION:Europe/London
BEGIN:DAYLIGHT
TZOFFSETFROM:+0000
TZOFFSETTO:+0100
TZNAME:BST
DTSTART:19700329T010000
RRULE:FREQ=YEARLY;BYMONTH=3;BYDAY=-1SU
END:DAYLIGHT
BEGIN:STANDARD
TZOFFSETFROM:+0100
TZOFFSETTO:+0000
TZNAME:GMT
DTSTART:19701025T020000
RRULE:FREQ=YEARLY;BYMONTH=10;BYDAY=-1SU
END:STANDARD
END:VTIMEZONE
BEGIN:VEVENT
UID:4626108:Event:530332
DTSTAMP:20260424T162756Z
SUMMARY:Athena Guildford Lunchtime Online
DESCRIPTION:The Athena Network: Guildford Group - Guest Speaker Georgi
 na Ash\r\n\r\nYou're welcome to visit us at our monthly business netwo
 rking meeting, with like-minded businesswomen, entrepreneurs, and exec
 utives. We are a fabulous group of women from a wide range of industry
  sectors, who are passionate about their business and who are looking 
 to connect with and build professional relationships with other local 
 businesswomen.\r\nNot just a networking group, The Athena Network has 
 three aims:\r\n\r\nto create strategic connections/ collaborations\r\n
 to deliver and develop business skills through our business talks and 
 workshops\r\nto inspire, motivate and support the women in our network
 \r\n\r\nAbout Athena Meetings\r\nAthena meetings are structured, inter
 active, informative, and professional whilst being fun and relaxed, pr
 oviding the perfect combination for strong business partnerships. We a
 im to create a vibrant, thriving, and dynamic community of women entre
 preneurs and executives who collaborate and connect with like-minded w
 omen.\r\nOur meetings start at 12pm with \"open Zoom Room networking\"
  followed by a structured meeting until 2pm. You'll have the opportuni
 ty to present a 60-second \"pitch\" for your business so that we know 
 who to connect you with and how to support you.\r\nThis month our Busi
 ness Development Training speaker will be:\r\nGeorgina Ash - Grub Prod
 uctions\r\nBooking your Place\r\nVisitors are welcome, but booking is 
 essential. We operate a one slot per profession policy, so please ensu
 re you provide your profession details with your booking. If you would
  like to check to see if your profession isn't locked out before booki
 ng, please feel free to contact me directly.\r\nSPECIAL OFFER: If you
  choose to join us after attending an online meeting, your visitor fee
  will be offset against the subscription fee, meaning you effectively 
 visit for free!\r\nCOST: £30\r\nBOOKING: Click here to book your pla
 ce\r\n----------------------------------------------\r\nTo find out mo
 re about Athena, please:\r\n\r\ncall me on 07501 124113\r\nemail: dori
 s.holleufer@theathenanetwork.com\r\ntake a look at our website\r\nfin
 d us on Facebook\r\n\r\n\n\nFor more information visit https://networ
 kinginsurrey.co.uk/events/athena-guildford-lunchtime-online
DTSTART;TZID=Europe/London:20211124T120000
DTEND;TZID=Europe/London:20211124T140000
CATEGORIES:virtual, networking
LOCATION:Online
WEBSITE:http://www.theathenanetwork.co.uk/dorisholleufer
URL:http://www.theathenanetwork.co.uk/dorisholleufer
CONTACT:07501 124113
ORGANIZER;CN="Doris Holleufer":https://networkinginsurrey.co.uk/profil
 e/DorisHolleufer88
ATTACH;FMTTYPE="image/jpeg":https://storage.ning.com/topology/rest/1.0
 /file/get/9630861266?profile=original
ATTENDEE;ROLE=REQ-PARTICIPANT;PARTSTAT=ACCEPTED;RSVP=TRUE;CN="Doris Ho
 lleufer":https://networkinginsurrey.co.uk/profile/DorisHolleufer88
END:VEVENT
END:VCALENDAR
