BEGIN:VCALENDAR
PRODID:NingEventWidget-v1
VERSION:2.0
METHOD:PUBLISH
BEGIN:VTIMEZONE
TZID:Europe/London
X-LIC-LOCATION:Europe/London
BEGIN:DAYLIGHT
TZOFFSETFROM:+0000
TZOFFSETTO:+0100
TZNAME:BST
DTSTART:19700329T010000
RRULE:FREQ=YEARLY;BYMONTH=3;BYDAY=-1SU
END:DAYLIGHT
BEGIN:STANDARD
TZOFFSETFROM:+0100
TZOFFSETTO:+0000
TZNAME:GMT
DTSTART:19701025T020000
RRULE:FREQ=YEARLY;BYMONTH=10;BYDAY=-1SU
END:STANDARD
END:VTIMEZONE
BEGIN:VEVENT
UID:4626108:Event:1829
DTSTAMP:20260426T034236Z
SUMMARY:Athena Cappuccino Connections Morning, Richmond
DESCRIPTION:Cappuccino Connections, Richmond\n\nBesides running focuse
 d networking lunches for local business women in the Richmond Borough,
  we also run informal coffee networking events for both members and no
 n-members.\nPopular with both established businesses and start-ups, th
 is is a wonderful way to network informally, and with no pressure. It 
 is also a great way to find out about Athena Network!\nCOST: £5 for A
 thena non-members, plus the cost of your beverage. Please join us - we
 'd love to meet you. No need to RSVP - just turn up, and bring a frien
 d.\n\nFor more information visit https://networkinginsurrey.co.uk/even
 ts/athena-cappuccino-connections
DTSTART;TZID=Europe/London:20100415T100000
DTEND;TZID=Europe/London:20100415T120000
CATEGORIES:morning, richmond, the_athena_network
LOCATION:The Dysart Arms, Richmond TW10 7AA
WEBSITE:http://www.athenanetworkingrichmond.co.uk/athena-events
URL:http://www.athenanetworkingrichmond.co.uk/athena-events
CONTACT:01932 422 573
ORGANIZER:Robyn Hatley
ATTACH;FMTTYPE="image/jpeg":http://storage.ning.com/topology/rest/1.0/
 file/get/2591379397?profile=original
END:VEVENT
END:VCALENDAR
