BEGIN:VCALENDAR
PRODID:NingEventWidget-v1
VERSION:2.0
METHOD:PUBLISH
BEGIN:VTIMEZONE
TZID:Europe/London
X-LIC-LOCATION:Europe/London
BEGIN:DAYLIGHT
TZOFFSETFROM:+0000
TZOFFSETTO:+0100
TZNAME:BST
DTSTART:19700329T010000
RRULE:FREQ=YEARLY;BYMONTH=3;BYDAY=-1SU
END:DAYLIGHT
BEGIN:STANDARD
TZOFFSETFROM:+0100
TZOFFSETTO:+0000
TZNAME:GMT
DTSTART:19701025T020000
RRULE:FREQ=YEARLY;BYMONTH=10;BYDAY=-1SU
END:STANDARD
END:VTIMEZONE
BEGIN:VEVENT
UID:4626108:Event:285967
DTSTAMP:20260422T072149Z
SUMMARY:Athena Cappuccino Connections Morning, Cobham
DESCRIPTION:Athena Cappuccino Connections at The Fairmile\r\n\r\nCappu
 ccino Connections is a national Athena Network initiative with groups 
 spread nationwide, but you certainly don't have to be an Athena member
  to join us for a coffee, a chat and the opportunity to tell us about 
 your business.\r\nEvery month we welcome new faces, and all are welcom
 e whether new to business or experienced! Please feel free to bring al
 ong business cards, 1 - 2 samples of what you offer, and any promotion
 al material. We want to hear about what you do & offer!  And who knows
  who you may meet at our events - new clients or someone to help you g
 row your business… No need to book, simply turn up on the morning; r
 egister with the Athena Host; purchase a beverage from the counter -- 
 and get networking!\r\nPlease contact Claire at claire.pelenc@theathe
 nanetwork.com for more information or for further details go to http
 s://theathenanetwork.com/clairepelenc/events/categories/cappuccino-con
 nections/ ;\r\nCOST: £2 for members - £7 for visitors\r\nBOOKING: n
 o booking necessary. Call Claire on 07877 705247 or email claire.pele
 nc@theathenanetwork.com for more information\r\nMAP ------------------
 -------------------------\r\nEVENT ORGANISERS:\r\nThe Athena Network, 
 The Premier Networking Organisation for Women In Business\r\n Focusing
  exclusively on women in business fulfilling a business development ro
 le, The Athena Network offers inspiring opportunities to engage with b
 usiness owners and decision makers from diverse industry sectors. Foun
 ded on values of respect and integrity, Athena groups are committed to
  welcoming members and visitors in a relaxed, mutually supportive and 
 ethical environment.\r\n At the heart of Athena’s activities, networ
 king groups meet each month over a good lunch in an attractive venue t
 o make new contacts, develop valuable business expertise and explore v
 isionary ideas. Additional local and regional initiatives provide exce
 llent membership value, through motivational workshops on networking s
 kills and business planning, social events, training courses, business
  retreats and one-to-one consultancy services.\r\nVibrant and fast-gro
 wing, Athena is the UK’s premier business networking organisation fo
 r women in business and is establishing a significant international pr
 esence.\n\nFor more information visit https://networkinginsurrey.co.uk
 /events/athena-cappuccino-connections-morning-cobham-7
DTSTART;TZID=Europe/London:20200108T100000
DTEND;TZID=Europe/London:20200108T120000
CATEGORIES:business, women, networking, coffee, morning
LOCATION:The Fairmile KT11 1BW
WEBSITE:https://theathenanetwork.com/clairepelenc/
URL:https://theathenanetwork.com/clairepelenc/
CONTACT:07877705247
ORGANIZER:Claire Pelenc
ATTACH;FMTTYPE="image/jpeg":https://storage.ning.com/topology/rest/1.0
 /file/get/3766673817?profile=original
ATTENDEE;ROLE=REQ-PARTICIPANT;PARTSTAT=ACCEPTED;RSVP=TRUE;CN="Gilles P
 elenc":https://networkinginsurrey.co.uk/profile/GillesPelenc
END:VEVENT
END:VCALENDAR
