BEGIN:VCALENDAR
PRODID:NingEventWidget-v1
VERSION:2.0
METHOD:PUBLISH
BEGIN:VTIMEZONE
TZID:Europe/London
X-LIC-LOCATION:Europe/London
BEGIN:DAYLIGHT
TZOFFSETFROM:+0000
TZOFFSETTO:+0100
TZNAME:BST
DTSTART:19700329T010000
RRULE:FREQ=YEARLY;BYMONTH=3;BYDAY=-1SU
END:DAYLIGHT
BEGIN:STANDARD
TZOFFSETFROM:+0100
TZOFFSETTO:+0000
TZNAME:GMT
DTSTART:19701025T020000
RRULE:FREQ=YEARLY;BYMONTH=10;BYDAY=-1SU
END:STANDARD
END:VTIMEZONE
BEGIN:VEVENT
UID:4626108:Event:2201
DTSTAMP:20260425T214637Z
SUMMARY:Athena Cappuccino Connections Morning, Twickenham
DESCRIPTION:Cappuccino Connections Morning, Twickenham\n\nBesides runn
 ing focused networking lunches for local business women in the Richmon
 d Borough, we also run informal coffee networking events for both memb
 ers and non-members.\nPopular with both established businesses and sta
 rt-ups, this is a wonderful way to network informally, and with no pre
 ssure. It is also a great way to find out about Athena Network! COST: 
 £5 for Athena non-members, plus the cost of your beverage. Please joi
 n us - we'd love to meet you. No need to RSVP - just turn up, and brin
 g a friend.\nMAP & DIRECTIONS (with downloadable pdf)\n\n-------------
 ---\nThe Athena Network has 130 Athena Network groups nationwide runni
 ng focused, yet relaxed, networking lunches for local business women. 
 Our business meetings include open networking, guest speakers, busines
 s training and the opportunity to promote your own business - whether 
 well-established or starting out. NiS Member Robyn Hatley is co-Region
 al Director for Athena North Surrey, together with Tricia Taylor.\n\nF
 or more information visit https://networkinginsurrey.co.uk/events/athe
 na-cappuccino-connections-1
DTSTART;TZID=Europe/London:20100505T100000
DTEND;TZID=Europe/London:20100505T120000
CATEGORIES:morning, twickenham, the_athena_network
LOCATION:Twickenham Stadium TW1 1DZ
WEBSITE:http://www.athenanetworkingrichmond.co.uk/athena-events
URL:http://www.athenanetworkingrichmond.co.uk/athena-events
CONTACT:Robyn 01932 422573, Tricia 01932 882340
ORGANIZER:Robyn Hatley
ATTACH;FMTTYPE="image/jpeg":http://storage.ning.com/topology/rest/1.0/
 file/get/2591380699?profile=original
END:VEVENT
END:VCALENDAR
