BEGIN:VCALENDAR
PRODID:NingEventWidget-v1
VERSION:2.0
METHOD:PUBLISH
BEGIN:VTIMEZONE
TZID:Europe/London
X-LIC-LOCATION:Europe/London
BEGIN:DAYLIGHT
TZOFFSETFROM:+0000
TZOFFSETTO:+0100
TZNAME:BST
DTSTART:19700329T010000
RRULE:FREQ=YEARLY;BYMONTH=3;BYDAY=-1SU
END:DAYLIGHT
BEGIN:STANDARD
TZOFFSETFROM:+0100
TZOFFSETTO:+0000
TZNAME:GMT
DTSTART:19701025T020000
RRULE:FREQ=YEARLY;BYMONTH=10;BYDAY=-1SU
END:STANDARD
END:VTIMEZONE
BEGIN:VEVENT
UID:4626108:Event:97487
DTSTAMP:20260422T122700Z
SUMMARY:Sales and Marketing Morning Workshop, Ascot
DESCRIPTION:The Maths of Marketing and Science of Sales Workshop\r\nJo
 in Maximizer CRM for a 60 minute master class in optimising your marke
 ting and sales ROI. \r\nLearn through real life scenarios and proven p
 ractical tips and tricks to deliver with confidence. This great-value 
 paid workshop is part of the Thames Valley Business Expo (which is fr
 ee to attend). \r\n\r\nDiscover how to:\r\n\r\nTrack and improve conv
 ersion rates from initial lead interaction to deal close\r\nUnderstand
  the power of segmentation and personas\r\nAdopt lead scoring and nurt
 ure so you engage with the right prospects at the right time\r\nPlanni
 ng for sales and prospecting calls\r\nQualify deals out, and get an up
 -front commitment\r\nMove your deals forward and win more\r\nCustomer 
 Lifetime Value (CLV) and client retention\r\n\r\nAttend this session a
 nd get a FREE Bundle of Best Practice Guides: Benefits of Segmentation
 , Build Your own Sales Playbook and Exploring Customer Lifetime Value 
 and Personas.\r\nAnd please drop by to say hello to the Maximizer team
  at our stand!\r\nCOST: £26.15 including booking fee & VAT\r\nBOOKIN
 G: Please CLICK HEREto register for free entry to the Expo and to book
  our paid Sales and Marketing workshop\r\nMAP\n\nFor more information 
 visit https://networkinginsurrey.co.uk/events/ascot-expo-workshop-the-
 maths-of-marketing-and-science-of-sales
DTSTART;TZID=Europe/London:20180523T114500
DTEND;TZID=Europe/London:20180523T124500
CATEGORIES:workshop, ascot, expo
LOCATION:Royal Ascot Racecourse, SL5 7JX
WEBSITE:http://www.greatbritishexpos.co.uk/thamesvalley-expo-ascot-reg
 istration/
URL:http://www.greatbritishexpos.co.uk/thamesvalley-expo-ascot-registr
 ation/
CONTACT:
ORGANIZER:Alison Smith
ATTACH;FMTTYPE="image/jpeg":http://storage.ning.com/topology/rest/1.0/
 file/get/2591473494?profile=original
ATTENDEE;ROLE=REQ-PARTICIPANT;PARTSTAT=ACCEPTED;RSVP=TRUE;CN="Harriet 
 Boshier":https://networkinginsurrey.co.uk/profile/HarrietBoshier
END:VEVENT
END:VCALENDAR
