BEGIN:VCALENDAR
PRODID:NingEventWidget-v1
VERSION:2.0
METHOD:PUBLISH
BEGIN:VTIMEZONE
TZID:Europe/London
X-LIC-LOCATION:Europe/London
BEGIN:DAYLIGHT
TZOFFSETFROM:+0000
TZOFFSETTO:+0100
TZNAME:BST
DTSTART:19700329T010000
RRULE:FREQ=YEARLY;BYMONTH=3;BYDAY=-1SU
END:DAYLIGHT
BEGIN:STANDARD
TZOFFSETFROM:+0100
TZOFFSETTO:+0000
TZNAME:GMT
DTSTART:19701025T020000
RRULE:FREQ=YEARLY;BYMONTH=10;BYDAY=-1SU
END:STANDARD
END:VTIMEZONE
BEGIN:VEVENT
UID:4626108:Event:1252
DTSTAMP:20260426T034140Z
SUMMARY:Arbonne Product Launch Event, Cobham
DESCRIPTION:Here are just a few of the many reasons to join me for thi
 s exciting event!\n* 2 Fantastic new product launches unveiled\n* Hear
  Guest RVP speakers, Gayle Longhurst and Sue Alexander\n* Be the first
  to try out and sample the new products\n* Join together for the ideal
  networking opportunity\n* Prize draws for Guests and Consultants*\n* 
 Purchase the “I Want It All Sets” available to road show attendees
  only\n\nBOOK HERE: Hands up asap please – its booked places only! C
 ontact NiS Member Shirley Barton-Gunning\n\nBring a friend a receive a
  free gift from me too!\nMAP\nVENUE\n---------------------------\nNetw
 orkingInSurrey.com allows Members to submit publicity for their own co
 mmercial events, which we moderate before posting. These events are cl
 early labelled MEMBER PROMOTION and may include networkng opportunitie
 s.\n\nFor more information visit https://networkinginsurrey.co.uk/even
 ts/arbonne-product-launch-event
DTSTART;TZID=Europe/London:20100326T183000
DTEND;TZID=Europe/London:20100326T210000
CATEGORIES:evening, product_launch, cobham
LOCATION:HIlton Hotel, Cobham KT11 1EW
WEBSITE:
URL:
CONTACT:
ORGANIZER;CN="Keith Grover, NiS Founder":https://networkinginsurrey.co
 .uk/profile/KeithGrover
ATTACH;FMTTYPE="image/jpeg":http://storage.ning.com/topology/rest/1.0/
 file/get/2591377754?profile=original
ATTENDEE;ROLE=REQ-PARTICIPANT;PARTSTAT=ACCEPTED;RSVP=TRUE;CN="Caroline
  Walsh":https://networkinginsurrey.co.uk/profile/CarolineWalsh
END:VEVENT
END:VCALENDAR
