BEGIN:VCALENDAR
PRODID:NingEventWidget-v1
VERSION:2.0
METHOD:PUBLISH
BEGIN:VTIMEZONE
TZID:Europe/London
X-LIC-LOCATION:Europe/London
BEGIN:DAYLIGHT
TZOFFSETFROM:+0000
TZOFFSETTO:+0100
TZNAME:BST
DTSTART:19700329T010000
RRULE:FREQ=YEARLY;BYMONTH=3;BYDAY=-1SU
END:DAYLIGHT
BEGIN:STANDARD
TZOFFSETFROM:+0100
TZOFFSETTO:+0000
TZNAME:GMT
DTSTART:19701025T020000
RRULE:FREQ=YEARLY;BYMONTH=10;BYDAY=-1SU
END:STANDARD
END:VTIMEZONE
BEGIN:VEVENT
UID:4626108:Event:1877
DTSTAMP:20260426T034024Z
SUMMARY:An \"Evening with thebestofrichmond\"
DESCRIPTION:Meet a wealth of contacts in a relaxed, social atmosphere 
 at Bingham, Richmond's finest boutique hotel and recently awarded a Mi
 chelin star in the 2010 Michelin Guide. Entrance includes a drink on a
 rrival and delicious canapés.\n\n\n\nThe atmosphere at these networki
 ng events is informal and relaxed - it is an ideal opportunity to spre
 ad the word about your services and make new contacts in the local bus
 iness community. The event lasts a couple of hours - but sometimes the
  best networking is done over a drink at the bar afterwards.\n\nIt's a
  great opportunity for you to:\n\n•Connect with like-minded business
  people in a relaxed ambience\n•Discover potential new business alli
 ances\n•Source the best local suppliers\n•Raise the public profile
  of your business\n•Enjoy a complimentary drink and light snacks / c
 anapes\n•Share ideas and get inspired!\n\nRead feedback from previou
 s events\n\nTicket prices\n\n•Business Members of thebestof - £10+v
 at\n•Non-members - £25+vat\n\nBOOK NOW\n\nFor more information visi
 t https://networkinginsurrey.co.uk/events/an-evening-with
DTSTART;TZID=Europe/London:20100429T183000
DTEND;TZID=Europe/London:20100429T203000
CATEGORIES:social, business, networking
LOCATION:Bingham
WEBSITE:http://www.richmondbusinessservices.co.uk/28.html
URL:http://www.richmondbusinessservices.co.uk/28.html
CONTACT:020 3002 4100
ORGANIZER;CN="Nick Taimitarha":https://networkinginsurrey.co.uk/profil
 e/NickTaimitarha
ATTACH;FMTTYPE="image/jpeg":http://storage.ning.com/topology/rest/1.0/
 file/get/2591379763?profile=original
ATTENDEE;ROLE=REQ-PARTICIPANT;PARTSTAT=ACCEPTED;RSVP=TRUE;CN="Nick Tai
 mitarha":https://networkinginsurrey.co.uk/profile/NickTaimitarha
END:VEVENT
END:VCALENDAR
