BEGIN:VCALENDAR
PRODID:NingEventWidget-v1
VERSION:2.0
METHOD:PUBLISH
BEGIN:VTIMEZONE
TZID:Europe/London
X-LIC-LOCATION:Europe/London
BEGIN:DAYLIGHT
TZOFFSETFROM:+0000
TZOFFSETTO:+0100
TZNAME:BST
DTSTART:19700329T010000
RRULE:FREQ=YEARLY;BYMONTH=3;BYDAY=-1SU
END:DAYLIGHT
BEGIN:STANDARD
TZOFFSETFROM:+0100
TZOFFSETTO:+0000
TZNAME:GMT
DTSTART:19701025T020000
RRULE:FREQ=YEARLY;BYMONTH=10;BYDAY=-1SU
END:STANDARD
END:VTIMEZONE
BEGIN:VEVENT
UID:4626108:Event:78110
DTSTAMP:20260425T204951Z
SUMMARY:FREE Time Well Spent Evening, Mugswell
DESCRIPTION:An Evening with Time Well Spent at The Well House Inn Mugs
 well\n\nAn Evening with\nTime Well Spent\nThis month, The Well House I
 nn in Mugswell will be our host!\nHave you booked on for this month's 
 FREE Evening With? Time Well Spent will be hosting the free event at 
 'The Well House Inn' in Mugswell.\nThere will be bubbles and bites alo
 ng with a great mix of people for an evening of networking. Parking is
  limited and available on a first-come first-served basis.\nTime Well 
 Spent are a family run business, specialising in beautiful, handpicked
  pubs and restaurants throughout Surrey and Sussex. All of their pub &
  restaurants are open for food and drink, all day, every day! They can
  also be privately hired for all personal and business parties.\nAddre
 ss: The Well House Inn, Chipstead Lane, Mugswell, Surrey, CR5 3SQ\n
 COST: FREE\nBOOKING: Please CLICK HERE to book\nMAP\nParking is limite
 d and available on a first-come first-served basis.\n\n\n\n\n\n\n\nFor
  more information visit https://networkinginsurrey.co.uk/events/an-eve
 ning-with-time-well-spent-at-the-well-house-inn-mugswell
DTSTART;TZID=Europe/London:20160330T180000
DTEND;TZID=Europe/London:20160330T203000
CATEGORIES:networking
LOCATION:The Well House Inn CR5 3SQ
WEBSITE:https://www.google.co.uk/maps/dir/''/the+well+house+inn+mugswe
 ll/@51.2826076,-0.2664496,12z/data=!3m1!4b1!4m8!4m7!1m0!1m5!1m1!1s0x48
 75e34840bbb485:0x9d00e0c82bd90a45!2m2!1d-0.19641!2d51.2826285
URL:https://www.google.co.uk/maps/dir/''/the+well+house+inn+mugswell/@
 51.2826076,-0.2664496,12z/data=!3m1!4b1!4m8!4m7!1m0!1m5!1m1!1s0x4875e3
 4840bbb485:0x9d00e0c82bd90a45!2m2!1d-0.19641!2d51.2826285
CONTACT:01737 350079
ORGANIZER;CN="Nigel Stickland":https://networkinginsurrey.co.uk/profil
 e/NigelStickland
ATTACH;FMTTYPE="image/jpeg":http://storage.ning.com/topology/rest/1.0/
 file/get/2591451358?profile=original
ATTENDEE;ROLE=REQ-PARTICIPANT;PARTSTAT=ACCEPTED;RSVP=TRUE;CN="Nigel St
 ickland":https://networkinginsurrey.co.uk/profile/NigelStickland
END:VEVENT
END:VCALENDAR
