BEGIN:VCALENDAR
PRODID:NingEventWidget-v1
VERSION:2.0
METHOD:PUBLISH
BEGIN:VTIMEZONE
TZID:Europe/London
X-LIC-LOCATION:Europe/London
BEGIN:DAYLIGHT
TZOFFSETFROM:+0000
TZOFFSETTO:+0100
TZNAME:BST
DTSTART:19700329T010000
RRULE:FREQ=YEARLY;BYMONTH=3;BYDAY=-1SU
END:DAYLIGHT
BEGIN:STANDARD
TZOFFSETFROM:+0100
TZOFFSETTO:+0000
TZNAME:GMT
DTSTART:19701025T020000
RRULE:FREQ=YEARLY;BYMONTH=10;BYDAY=-1SU
END:STANDARD
END:VTIMEZONE
BEGIN:VEVENT
UID:4626108:Event:74688
DTSTAMP:20260425T175616Z
SUMMARY:An Evening/Xmas Afternoon Fair With Thebestof Guildford
DESCRIPTION:An Evening/Afternoon Fair With Thebestof Guildford at Vine
 s BMW\n\n\nCome and join us for a great evening of networking at the s
 howrooms of Vines BMW in Guildford.\nThis will be our very last event 
 of 2016 and it's going to be a belter! \nAs usual, you can expect a b
 uzzing crowd of 60+ enthusiastic local business people looking to meet
  and do business with other local business people. You need to be part
  of it!\nThis will be a special event this year - the doors of Vines w
 ill open at 3.00 for a special Chrismas Fair - there'll 20+ local supp
 liers, including food and drinks with an opportunity for you to try be
 fore you buy and pick up some tempting deals for Christmas.\nIf you wa
 nt to do business networking we kick off at 7pm so make sure you get d
 own for 6.30 latest.\nWe have a mobile bar from Barrel & Cask and some
  delcious food from Jane at really Hungry as well as some top notch en
 tertainment from the BKD Performers and Paul Holgate our local Frank S
 inatra.\n\n \nThere will be some light food available and an \non-si
 te FREE bar (beer, wines, soft drinks) - make sue you bring plenty of 
 business cards!\nWe really hope you can join us, but as per usual, num
 bers are limited so don't delay ... book today! :)\nAttendance is free
  for featured businesses on the bestofguildford website but you need b
 ook your place to avoid disappointment ..... if you're not a featured 
  business please purchase your ticket\nCOST: £18 inc VAT\nBOOKING: P
 lease CLICK HERE to book\nMAP\n\n\n\n\n\n \n\nFor more information v
 isit https://networkinginsurrey.co.uk/events/an-evening-with-thebestof
 -guildford
DTSTART;TZID=Europe/London:20151216T180000
DTEND;TZID=Europe/London:20151216T210000
CATEGORIES:relaxed, networking
LOCATION:Vines BMW Car Dealership GU1 1RD
WEBSITE:https://www.eventbrite.co.uk/e/an-evening-with-bestofguildford
 -at-vines-bmw-tickets-18433739812
URL:https://www.eventbrite.co.uk/e/an-evening-with-bestofguildford-at-
 vines-bmw-tickets-18433739812
CONTACT:07525 738758
ORGANIZER;CN="Sally Castro Gouveia":https://networkinginsurrey.co.uk/p
 rofile/SallyCastroGouveia
ATTACH;FMTTYPE="image/jpeg":http://storage.ning.com/topology/rest/1.0/
 file/get/2591450495?profile=original
ATTENDEE;ROLE=REQ-PARTICIPANT;PARTSTAT=ACCEPTED;RSVP=TRUE;CN="Sally Ca
 stro Gouveia":https://networkinginsurrey.co.uk/profile/SallyCastroGouv
 eia
END:VEVENT
END:VCALENDAR
