BEGIN:VCALENDAR
PRODID:NingEventWidget-v1
VERSION:2.0
METHOD:PUBLISH
BEGIN:VTIMEZONE
TZID:Europe/London
X-LIC-LOCATION:Europe/London
BEGIN:DAYLIGHT
TZOFFSETFROM:+0000
TZOFFSETTO:+0100
TZNAME:BST
DTSTART:19700329T010000
RRULE:FREQ=YEARLY;BYMONTH=3;BYDAY=-1SU
END:DAYLIGHT
BEGIN:STANDARD
TZOFFSETFROM:+0100
TZOFFSETTO:+0000
TZNAME:GMT
DTSTART:19701025T020000
RRULE:FREQ=YEARLY;BYMONTH=10;BYDAY=-1SU
END:STANDARD
END:VTIMEZONE
BEGIN:VEVENT
UID:4626108:Event:75498
DTSTAMP:20260425T204118Z
SUMMARY:FREE thebestof Epsom & Ewell & Surrey Chambers Evening , Epsom
DESCRIPTION:thebestof Epsom & Ewell ‘On The Road’ at Global House\
 n\nAn Evening with The Best of Epsom & Ewell\nAnd\nSurrey Chambers of 
 Commerce\nWednesday 25th November 2015\n6:00 – 8:00pm\nHosted by GL
 OBAL HOUSE Epsom\nGlobal House, 1 Ashley Avenue, Epsom KT18 5AD\nCome 
 and join us as we hold a joint Networking Night with Surrey Chambers a
 t Global House in Epsom\nComplimentary networking evening in conjuncti
 on with Surrey Chambers of Commerce - open networking, refreshments an
 d canapés will be served throughout the event. What do you have to lo
 se?\nJoin members and non members for another networking opportunity. 
 Networking is a sure fire way to creating sales and ultimately growing
  your business. Developing fresh, new and long lasting business contac
 ts is a constant need for any business wishing to succeed. The questio
 n is, “Are you networking enough?'\nCOST: FREE - booking is essentia
 l, for catering purposes\nBOOKING: Please CLICK HERE to book your pl
 ace\nMAP\n \n\nFor more information visit https://networkinginsurrey.
 co.uk/events/an-evening-with-thebestof-epsom-ewell-surrey-chambers-at-
 global
DTSTART;TZID=Europe/London:20151125T180000
DTEND;TZID=Europe/London:20151125T200000
CATEGORIES:metworking
LOCATION:Global House
WEBSITE:http://www.cityskyline.co.uk/epsom/
URL:http://www.cityskyline.co.uk/epsom/
CONTACT:01737 350079
ORGANIZER;CN="Nigel Stickland":https://networkinginsurrey.co.uk/profil
 e/NigelStickland
ATTACH;FMTTYPE="image/jpeg":http://storage.ning.com/topology/rest/1.0/
 file/get/2591446858?profile=original
ATTENDEE;ROLE=REQ-PARTICIPANT;PARTSTAT=ACCEPTED;RSVP=TRUE;CN="Nigel St
 ickland":https://networkinginsurrey.co.uk/profile/NigelStickland
ATTENDEE;ROLE=REQ-PARTICIPANT;PARTSTAT=ACCEPTED;RSVP=TRUE;CN="Nick Sha
 rples":https://networkinginsurrey.co.uk/profile/NickSharples
END:VEVENT
END:VCALENDAR
