BEGIN:VCALENDAR
PRODID:NingEventWidget-v1
VERSION:2.0
METHOD:PUBLISH
BEGIN:VTIMEZONE
TZID:Europe/London
X-LIC-LOCATION:Europe/London
BEGIN:DAYLIGHT
TZOFFSETFROM:+0000
TZOFFSETTO:+0100
TZNAME:BST
DTSTART:19700329T010000
RRULE:FREQ=YEARLY;BYMONTH=3;BYDAY=-1SU
END:DAYLIGHT
BEGIN:STANDARD
TZOFFSETFROM:+0100
TZOFFSETTO:+0000
TZNAME:GMT
DTSTART:19701025T020000
RRULE:FREQ=YEARLY;BYMONTH=10;BYDAY=-1SU
END:STANDARD
END:VTIMEZONE
BEGIN:VEVENT
UID:4626108:Event:69348
DTSTAMP:20260421T041840Z
SUMMARY:An Evening with thebestof Epsom & Ewell, Kingswood
DESCRIPTION:thebestof Epsom & Ewell â€“ â€˜On The Roadâ€™ at The Lodge
  at Kingswood\n\nAn Evening with The Best of Epsom & Ewell\nOn The Roa
 d\nWednesday 26th November\n6:00 â€“ 8:30pm\nHosted byÂ The Lodge at K
 ingswood\nKingswood Golf Club, Sandy Lane, Kingswood KT20 6NE\nOrganis
 ed with:Â Sunflower Corporation\nEpsom & Ewellâ€™s premier networking 
 event!\nDue to popular demand, we are continuing our networking meetin
 gs on the road! This month taking place at\nÂ \nThe Lodge at Kingswood
  Golf & Country\nÂ \nRunning from 1800 - 2030 the evening will give yo
 u the opportunityÂ to network with purpose through our social sessions
  and our exclusive roundÂ tableÂ networking.Â You will also hear first
  hand from members in this months spotlights sessions.Â \nOn arrival y
 ou will receive a copy of the attendee list to browseÂ with over 40 fe
 llow business owners and managers.Â CanapÃ©s will be served during the
  social session and there is a cash bar running throughout the evening
 . Whilst weÂ officially close the eventÂ at 2030Â the bar will stay op
 en for you to continue networking at leisure.Â \nMake sure you book be
 fore 23:30 on Monday 24th November to secure the Early Bird price!\nIf
  you are a local business â€“ then book your place nowÂ \nBOOK NOW\nTo
  have your company details included in the attendees hand out list you
  must register or advise us of attendance at least 24 hours before the
  evening.\nThis event will be run monthly â€“ on the last Wednesday of
  every month (exc December) â€“ so please put the date in your diary.Â
  \nCOST: Â£12.50 + VAT Early Bird to 24th November - Â£16.67 + VAT Lat
 e Booking\nBOOKING: Please CLICK HERE to book.\nMAP\nParking Available
  at The Lodge\nÂ \n\nFor more information visit https://networkinginsu
 rrey.co.uk/events/an-evening-with-thebestof-epsom-ewell-on-the-road-at
 -the-lodge-at
DTSTART;TZID=Europe/London:20141126T180000
DTEND;TZID=Europe/London:20141126T203000
CATEGORIES:networking
LOCATION:The Lodge at Kingswood Golf & Country Club
WEBSITE:http://www.eventbrite.co.uk/e/an-evening-with-thebestof-epsom-
 ewell-on-the-road-tickets-14160992911?aff=es2
URL:http://www.eventbrite.co.uk/e/an-evening-with-thebestof-epsom-ewel
 l-on-the-road-tickets-14160992911?aff=es2
CONTACT:01737 350079
ORGANIZER;CN="Nigel Stickland":https://networkinginsurrey.co.uk/profil
 e/NigelStickland
ATTACH;FMTTYPE="image/jpeg":http://storage.ning.com/topology/rest/1.0/
 file/get/2591434522?profile=original
ATTENDEE;ROLE=REQ-PARTICIPANT;PARTSTAT=ACCEPTED;RSVP=TRUE;CN="Nigel St
 ickland":https://networkinginsurrey.co.uk/profile/NigelStickland
END:VEVENT
END:VCALENDAR
