BEGIN:VCALENDAR
PRODID:NingEventWidget-v1
VERSION:2.0
METHOD:PUBLISH
BEGIN:VTIMEZONE
TZID:Europe/London
X-LIC-LOCATION:Europe/London
BEGIN:DAYLIGHT
TZOFFSETFROM:+0000
TZOFFSETTO:+0100
TZNAME:BST
DTSTART:19700329T010000
RRULE:FREQ=YEARLY;BYMONTH=3;BYDAY=-1SU
END:DAYLIGHT
BEGIN:STANDARD
TZOFFSETFROM:+0100
TZOFFSETTO:+0000
TZNAME:GMT
DTSTART:19701025T020000
RRULE:FREQ=YEARLY;BYMONTH=10;BYDAY=-1SU
END:STANDARD
END:VTIMEZONE
BEGIN:VEVENT
UID:4626108:Event:160446
DTSTAMP:20260422T081715Z
SUMMARY:An Evening with thebestof Epsom and Ewell and Surrey Chambers,
  Betchworth
DESCRIPTION:thebestof Epsom & Ewell Cocktails and BBQ at the Red Lion 
 & Cellar Room \r\n\r\nAn Evening with \r\nThe Best of Epsom & Ewell
  \r\nAnd \r\nSurrey Chambers \r\nHosted By\r\nThe RED LION & CELLAR
  ROOM\r\nWednesday 17th July \r\n6:00pm to 10:00pm \r\nThe Red Lion 
 & Cellar Room, Old Road, Buckland, Betchworth, Surrey RH3 7DS\r\nCome 
 and join us for An Evening With thebestof Epsom & Ewell and Surrey Cha
 mbers. \r\nNetworking event with cocktails and BBQ hosted by the char
 ming Mark Jones, landlord at The Red Lion & Cellar Room, Betchworth.\r
 \nBook your FREE entry tickets now, which will also allow you to enter
  our special Raffle with a grand prize of a fantastic 6-course tasting
  meal for 6! Voluntary donations for charity welcomed.  \r\nCOST: FR
 EE - but booking is essential for catering purposes please\r\nBOOKING:
  Please BOOK YOUR FREE PLACE NOW\r\nMAP\n\nFor more information visit 
 https://networkinginsurrey.co.uk/events/an-evening-with-thebestof-epso
 m-amp-ewell-and-surrey-chambers-at
DTSTART;TZID=Europe/London:20190717T180000
DTEND;TZID=Europe/London:20190717T220000
CATEGORIES:business, networking
LOCATION:The Red Lion and Cellar Room
WEBSITE:https://www.eventbrite.co.uk/e/an-evening-with-thebestof-epsom
 -ewell-surrey-chambers-of-commerce-tickets-63562695734
URL:https://www.eventbrite.co.uk/e/an-evening-with-thebestof-epsom-ewe
 ll-surrey-chambers-of-commerce-tickets-63562695734
CONTACT:01737 350079
ORGANIZER;CN="Nigel Stickland":https://networkinginsurrey.co.uk/profil
 e/NigelStickland
ATTACH;FMTTYPE="image/jpeg":https://storage.ning.com/topology/rest/1.0
 /file/get/2976554328?profile=original
ATTENDEE;ROLE=REQ-PARTICIPANT;PARTSTAT=ACCEPTED;RSVP=TRUE;CN="Nigel St
 ickland":https://networkinginsurrey.co.uk/profile/NigelStickland
END:VEVENT
END:VCALENDAR
