BEGIN:VCALENDAR
PRODID:NingEventWidget-v1
VERSION:2.0
METHOD:PUBLISH
BEGIN:VTIMEZONE
TZID:Europe/London
X-LIC-LOCATION:Europe/London
BEGIN:DAYLIGHT
TZOFFSETFROM:+0000
TZOFFSETTO:+0100
TZNAME:BST
DTSTART:19700329T010000
RRULE:FREQ=YEARLY;BYMONTH=3;BYDAY=-1SU
END:DAYLIGHT
BEGIN:STANDARD
TZOFFSETFROM:+0100
TZOFFSETTO:+0000
TZNAME:GMT
DTSTART:19701025T020000
RRULE:FREQ=YEARLY;BYMONTH=10;BYDAY=-1SU
END:STANDARD
END:VTIMEZONE
BEGIN:VEVENT
UID:4626108:Event:34373
DTSTAMP:20260421T042431Z
SUMMARY:Best of Richmond Evening, Richmond
DESCRIPTION:An Evening with the Best of Richmond at The Park Hotel\n\n
 For our last networking event of the year (before our Christmas Party!
 ) we're at the fabulous Park Hotel in Teddington for an enjoyable even
 ing of social business networking.\nRelax and mingle with like minded 
 business owners as you enjoy a complimentary drink on arrival and deli
 cious canapes. Not only will you meet some useful contacts - it's grea
 t fun too!\n The event lasts a couple of hours, although no doubt a f
 ew will retire to the bar or restaurant afterwards.\nCOST:  Business 
 Members of thebestofrichmond - £10+vat\nNon-members - £20+vat\nPLEAS
 E CLICK HERE TO BOOK\nMAP\n\nFor more information visit https://networ
 kinginsurrey.co.uk/events/an-evening-with-the-best-of-richmond-at-the-
 park-hotel
DTSTART;TZID=Europe/London:20111115T183000
DTEND;TZID=Europe/London:20111115T203000
CATEGORIES:networking
LOCATION:The Park Hotel  TW11 0AB
WEBSITE:http://www.eventbrite.com/event/2339710136
URL:http://www.eventbrite.com/event/2339710136
CONTACT:442030024100
ORGANIZER;CN="Nick Taimitarha":https://networkinginsurrey.co.uk/profil
 e/NickTaimitarha
ATTACH;FMTTYPE="image/jpeg":http://storage.ning.com/topology/rest/1.0/
 file/get/2591396703?profile=original
ATTENDEE;ROLE=REQ-PARTICIPANT;PARTSTAT=ACCEPTED;RSVP=TRUE;CN="Nick Tai
 mitarha":https://networkinginsurrey.co.uk/profile/NickTaimitarha
END:VEVENT
END:VCALENDAR
