BEGIN:VCALENDAR
PRODID:NingEventWidget-v1
VERSION:2.0
METHOD:PUBLISH
BEGIN:VTIMEZONE
TZID:Europe/London
X-LIC-LOCATION:Europe/London
BEGIN:DAYLIGHT
TZOFFSETFROM:+0000
TZOFFSETTO:+0100
TZNAME:BST
DTSTART:19700329T010000
RRULE:FREQ=YEARLY;BYMONTH=3;BYDAY=-1SU
END:DAYLIGHT
BEGIN:STANDARD
TZOFFSETFROM:+0100
TZOFFSETTO:+0000
TZNAME:GMT
DTSTART:19701025T020000
RRULE:FREQ=YEARLY;BYMONTH=10;BYDAY=-1SU
END:STANDARD
END:VTIMEZONE
BEGIN:VEVENT
UID:4626108:Event:49435
DTSTAMP:20260422T054908Z
SUMMARY:An Evening with The Best of Richmond at Moidul's of Teddington
DESCRIPTION:Tantalising Networking at Moidul's!\n\nPrepare to be tanta
 lised! Moidul's of Teddington has glamourised the curry with his newly
  opened Indian Tapas and Cocktail bar. \nAdding plenty of sparkle to 
 the cold darker nights, we decided there was no place better to host o
 ur next 'evening with…'\nWhat will be happening?\n\n6.30pm start\nCo
 mplimentary drink on arrival\nAn array of exotic Indian Tapas tasters\
 nThe format is relaxed and social with thebestof team Nick, Jacqui and
  Liz on hand to help you meet the people you would like\n8.30pm networ
 king ends - but do feel free to continue to enjoy the restaurant and c
 ocktail bar\n\nAbout an evening with thebestofrichmond\nWe host just O
 NE quality event a month regularly attracting around 50 people. We lik
 e to keep things simple and friendly. As you arrive you will be given 
 a guest list and throughout the evening we help to make any introducti
 ons.\nCOST: £20+vat for non-members, £10+vat for business members o
 f thebestof - includes welcome cocktail, tapas and the best networking
  in town!\nBOOKING: Please CLICK HERE to book\nMAP\n\n\nFor more info
 rmation visit https://networkinginsurrey.co.uk/events/an-evening-with-
 the-best-of-richmond-at-moidul-s-of-teddington
DTSTART;TZID=Europe/London:20121030T183000
DTEND;TZID=Europe/London:20121030T203000
CATEGORIES:networking
LOCATION:Moidul's of Teddington TW11 8JD
WEBSITE:http://moidulsoftedd.eventbrite.co.uk/
URL:http://moidulsoftedd.eventbrite.co.uk/
CONTACT:020 3002 4100
ORGANIZER;CN="Nick Taimitarha":https://networkinginsurrey.co.uk/profil
 e/NickTaimitarha
ATTACH;FMTTYPE="image/jpeg":http://storage.ning.com/topology/rest/1.0/
 file/get/2591417127?profile=original
ATTENDEE;ROLE=REQ-PARTICIPANT;PARTSTAT=ACCEPTED;RSVP=TRUE;CN="Nick Tai
 mitarha":https://networkinginsurrey.co.uk/profile/NickTaimitarha
END:VEVENT
END:VCALENDAR
