BEGIN:VCALENDAR
PRODID:NingEventWidget-v1
VERSION:2.0
METHOD:PUBLISH
BEGIN:VTIMEZONE
TZID:Europe/London
X-LIC-LOCATION:Europe/London
BEGIN:DAYLIGHT
TZOFFSETFROM:+0000
TZOFFSETTO:+0100
TZNAME:BST
DTSTART:19700329T010000
RRULE:FREQ=YEARLY;BYMONTH=3;BYDAY=-1SU
END:DAYLIGHT
BEGIN:STANDARD
TZOFFSETFROM:+0100
TZOFFSETTO:+0000
TZNAME:GMT
DTSTART:19701025T020000
RRULE:FREQ=YEARLY;BYMONTH=10;BYDAY=-1SU
END:STANDARD
END:VTIMEZONE
BEGIN:VEVENT
UID:4626108:Event:64682
DTSTAMP:20260420T022932Z
SUMMARY:Best of Epsom & Ewell 'Cocktail & Canapés Evening, Epsom
DESCRIPTION:\nAn Evening with The Best of Epsom & Ewell\nwith\nCocktai
 l & Canapés\nWednesday 30th April\n6:00 – 8:30pm\nHosted by Chalk 
 Lane Hotel, Woodcote End, Epsom KT18 7BB\nOrganised with: Sunflower C
 orporation\nOur cocktail of the month kick starts the evening giving y
 ou the chance to relax with fellow business owners and managers. \nR
 unning from 1800 - 2030 the evening will give you the opportunity to 
 network with purpose through our round table networking, before we hea
 r from 3 members in the Monthly Spotlights. \nThis will be followed 
 by the latest news from thebestof team.\nCanapés will be served duri
 ng the social session and there is a cash bar running throughout the e
 vening.\nWhilst we officially close the event at 2030 the bar will 
 stay open for you to continue networking at leisure.  \nApril Spotlig
 hts to be Confirmed\nIf you are a local business – then book your pl
 ace now\nThis event will be run monthly – on the last Wednesday of e
 very month – so please put the date in your diary. \nCOST: £12.50 
 + VAT BOOKING: Please CLICK HERE to book.\nMAP\nThere is free parking
  at the Chalk Lane Hotel\n\n\n \n\n\n\n\nFor more information visit h
 ttps://networkinginsurrey.co.uk/events/an-evening-with-the-best-of-eps
 om-ewell-cocktail-canap-s-6
DTSTART;TZID=Europe/London:20140430T180000
DTEND;TZID=Europe/London:20140430T203000
CATEGORIES:networking
LOCATION:Chalk Lane Hotel
WEBSITE:https://maps.google.co.uk/maps?ie=UTF-8&q=chalk+lane+hotel&fb=
 1&gl=uk&hq=chalk+lane+hotel&hnear=chalk+lane+hotel&cid=0,0,33492615692
 36022233&ei=Xv3LUfCXHO-b0wXAxoHgDw&sqi=2&ved=0CK4BEPwSMAg
URL:https://maps.google.co.uk/maps?ie=UTF-8&q=chalk+lane+hotel&fb=1&gl
 =uk&hq=chalk+lane+hotel&hnear=chalk+lane+hotel&cid=0,0,334926156923602
 2233&ei=Xv3LUfCXHO-b0wXAxoHgDw&sqi=2&ved=0CK4BEPwSMAg
CONTACT:01737 350079
ORGANIZER;CN="Nigel Stickland":https://networkinginsurrey.co.uk/profil
 e/NigelStickland
ATTACH;FMTTYPE="image/jpeg":http://storage.ning.com/topology/rest/1.0/
 file/get/180296123?profile=original
ATTENDEE;ROLE=REQ-PARTICIPANT;PARTSTAT=ACCEPTED;RSVP=TRUE;CN="Marina F
 rancis Mazzocchi":https://networkinginsurrey.co.uk/profile/MarinaFranc
 isMazzocchi
ATTENDEE;ROLE=REQ-PARTICIPANT;PARTSTAT=ACCEPTED;RSVP=TRUE;CN="Nigel St
 ickland":https://networkinginsurrey.co.uk/profile/NigelStickland
END:VEVENT
END:VCALENDAR
