BEGIN:VCALENDAR
PRODID:NingEventWidget-v1
VERSION:2.0
METHOD:PUBLISH
BEGIN:VTIMEZONE
TZID:Europe/London
X-LIC-LOCATION:Europe/London
BEGIN:DAYLIGHT
TZOFFSETFROM:+0000
TZOFFSETTO:+0100
TZNAME:BST
DTSTART:19700329T010000
RRULE:FREQ=YEARLY;BYMONTH=3;BYDAY=-1SU
END:DAYLIGHT
BEGIN:STANDARD
TZOFFSETFROM:+0100
TZOFFSETTO:+0000
TZNAME:GMT
DTSTART:19701025T020000
RRULE:FREQ=YEARLY;BYMONTH=10;BYDAY=-1SU
END:STANDARD
END:VTIMEZONE
BEGIN:VEVENT
UID:4626108:Event:95579
DTSTAMP:20260422T203934Z
SUMMARY:FREE An Evening With Newable Business Exchange, Epsom
DESCRIPTION:An Evening With...thebestof Epsom & Ewell and Newable Busi
 ness Exchange\r\n\r\nHello Networkers!\r\nMake sure you don't miss out
  on this FREE networking event - Book your complimentary ticket now!\r
 \nYour opportunity to network throughout the evening with local busine
 ss professionals.\r\n\r\nJoin Newable Business Exchange in Epsom for A
 n Evening With Networking on 7th February 2018 for fun and friendly ne
 tworking.\r\nWhen: Wednesday 7th February 2018 5.30pm – 8pm\r\nHeld 
 at: Newable Business Exchange, 4 - 6 High Street, Epsom, KT19 8AD\r\n
 Running from 5.30pm – 8pm, the evening will give you the opportunity
  to network with purpose. Refreshments and canapes will be served thro
 ughout the evening.\r\nREGISTER FOR THE FREE EVENT NOW\r\nThe event is
  jointly hosted by thebestof Epsom and Newable Business Exchange.\r\nC
 OST: FREE to attend (but booking is essential for catering purposes pl
 ease!)\r\nBOOKING: Please CLICK HERE to register for your free place\
 r\nMAP\r\nParking: Plenty of parking available in the Ashley Centre Ca
 r Park or Behind Epsom Odeon Cinema\r\n\n\nFor more information visit 
 https://networkinginsurrey.co.uk/events/an-evening-with-newable-busine
 ss-exchange-in-epsom
DTSTART;TZID=Europe/London:20180207T173000
DTEND;TZID=Europe/London:20180207T200000
CATEGORIES:business, networking
LOCATION:Newable Business Exchange KT19 8AD
WEBSITE:https://www.eventbrite.co.uk/e/an-evening-with-newable-busines
 s-exchange-tickets-41750370482?aff=es2
URL:https://www.eventbrite.co.uk/e/an-evening-with-newable-business-ex
 change-tickets-41750370482?aff=es2
CONTACT:01737 350079
ORGANIZER;CN="Nigel Stickland":https://networkinginsurrey.co.uk/profil
 e/NigelStickland
ATTACH;FMTTYPE="image/jpeg":http://storage.ning.com/topology/rest/1.0/
 file/get/2591470390?profile=original
ATTENDEE;ROLE=REQ-PARTICIPANT;PARTSTAT=ACCEPTED;RSVP=TRUE;CN="Lord Ham
 ilton of Glencoe":https://networkinginsurrey.co.uk/profile/BrianIanHam
 ilton
ATTENDEE;ROLE=REQ-PARTICIPANT;PARTSTAT=ACCEPTED;RSVP=TRUE;CN="Nigel St
 ickland":https://networkinginsurrey.co.uk/profile/NigelStickland
END:VEVENT
END:VCALENDAR
