BEGIN:VCALENDAR
PRODID:NingEventWidget-v1
VERSION:2.0
METHOD:PUBLISH
BEGIN:VTIMEZONE
TZID:Europe/London
X-LIC-LOCATION:Europe/London
BEGIN:DAYLIGHT
TZOFFSETFROM:+0000
TZOFFSETTO:+0100
TZNAME:BST
DTSTART:19700329T010000
RRULE:FREQ=YEARLY;BYMONTH=3;BYDAY=-1SU
END:DAYLIGHT
BEGIN:STANDARD
TZOFFSETFROM:+0100
TZOFFSETTO:+0000
TZNAME:GMT
DTSTART:19701025T020000
RRULE:FREQ=YEARLY;BYMONTH=10;BYDAY=-1SU
END:STANDARD
END:VTIMEZONE
BEGIN:VEVENT
UID:4626108:Event:4076
DTSTAMP:20260425T231437Z
SUMMARY:An Evening with Donna Johnson, Egham
DESCRIPTION:EXTRA DATE: An Audience with Arbonne Network Marketing Gur
 u Donna Johnson at the Runnymede Hotel\n\nA special evening with the W
 orld's most successful female Network Marketeer Donna Johnson. Donna i
 s a Multi-Millionairess who built her fortune part-time with Arbonne, 
 a 30-year-old health and wellness company, now undergoing rapid expans
 ion in the UK and across the globe.\nDonna was Arbonne's first nationa
 l Vice President and her business accounts for over 90% of the company
 . Passion and inspiration just flows from this amazing lady.\nLooking 
 for a new challenge, new income stream? Donna will show you how you to
 o can build a business like hers, with this groundfloor opportunity.\n
 \nCOST: £5 per ticket\nBOOK HERE: Please email deborahlaw@myarbonne.c
 o.ukto book your place. There will be 250 guests, and places will be a
 llocated on a first come, first served basis. This event may sell out 
 in advance do please CONTACT ME NOW if you would like to come.\nMAP\nA
  business for the 21st century...\nBuild a network of on-line shoppers
  choosing pure, safe botanical skincare instead of chemical and petrol
 eum based skincare which fills the retail shelves. Who wouldn't want t
 o switch knowing this? This video tells you more\nHere's more informat
 ion about the business opportunity. Please call me on 07971 543694 and
  we'll explore further before this date.\n----------------------------
 \nThis event has been posted by NiS Member Deborah Law\n\nFor more inf
 ormation visit https://networkinginsurrey.co.uk/events/an-evening-with
 -donna-johnson-1
DTSTART;TZID=Europe/London:20100916T180000
DTEND;TZID=Europe/London:20100916T190000
CATEGORIES:promotion, evening, egham
LOCATION:Runnymede Hotel
WEBSITE:http://www.deborahlaw.myarbonne.co.uk/
URL:http://www.deborahlaw.myarbonne.co.uk/
CONTACT:07971 543694
ORGANIZER:Deborah Law
ATTACH;FMTTYPE="image/jpeg":http://storage.ning.com/topology/rest/1.0/
 file/get/2591377754?profile=original
ATTENDEE;ROLE=REQ-PARTICIPANT;PARTSTAT=ACCEPTED;RSVP=TRUE;CN="Keith Gr
 over, NiS Founder":https://networkinginsurrey.co.uk/profile/KeithGrove
 r
END:VEVENT
END:VCALENDAR
