BEGIN:VCALENDAR
PRODID:NingEventWidget-v1
VERSION:2.0
METHOD:PUBLISH
BEGIN:VTIMEZONE
TZID:Europe/London
X-LIC-LOCATION:Europe/London
BEGIN:DAYLIGHT
TZOFFSETFROM:+0000
TZOFFSETTO:+0100
TZNAME:BST
DTSTART:19700329T010000
RRULE:FREQ=YEARLY;BYMONTH=3;BYDAY=-1SU
END:DAYLIGHT
BEGIN:STANDARD
TZOFFSETFROM:+0100
TZOFFSETTO:+0000
TZNAME:GMT
DTSTART:19701025T020000
RRULE:FREQ=YEARLY;BYMONTH=10;BYDAY=-1SU
END:STANDARD
END:VTIMEZONE
BEGIN:VEVENT
UID:4626108:Event:3151
DTSTAMP:20260425T200703Z
SUMMARY:An \"Evening with thebestofrichmond\" at The Petersham
DESCRIPTION:Meet a wealth of contacts in a relaxed, social atmosphere 
 at The Petersham, one of Richmond's finest establishments. Few hotels 
 evoke such a sense of elegance, style and sophistication. Entrance inc
 ludes a drink on arrival and canapés.\n\nTicket prices\n\n* Business 
 Members of thebestof - £10+vat\n* Non-members - £25+vat\n\nBOOK NOW\
 n\nAbout our \"Evening with thebestofrichmond\" events\n\n\n\nThe atmo
 sphere at these networking events is informal and relaxed - it is an i
 deal opportunity to spread the word about your services and make new c
 ontacts in the local business community. The event lasts a couple of h
 ours - but sometimes the best networking is done over a drink at the b
 ar afterwards.\n\n\nIt's a great opportunity for you to:\n\n* Connect 
 with like-minded business people in a relaxed ambience\n* Discover pot
 ential new business alliances\n* Source the best local suppliers\n* Ra
 ise the public profile of your business\n* Enjoy a complimentary drink
  and light snacks / canapes\n* Share ideas and get inspired!\n\nFor mo
 re information visit www.networkinginrichmond.co.uk\n\nFor more inform
 ation visit https://networkinginsurrey.co.uk/events/an-evening-with-1
DTSTART;TZID=Europe/London:20100715T183000
DTEND;TZID=Europe/London:20100715T203000
CATEGORIES:networking
LOCATION:Richmond
WEBSITE:http://www.richmondbusinessservices.co.uk/28.html
URL:http://www.richmondbusinessservices.co.uk/28.html
CONTACT:020 3002 4100
ORGANIZER;CN="Nick Taimitarha":https://networkinginsurrey.co.uk/profil
 e/NickTaimitarha
ATTACH;FMTTYPE="image/jpeg":http://storage.ning.com/topology/rest/1.0/
 file/get/2591384592?profile=original
ATTENDEE;ROLE=REQ-PARTICIPANT;PARTSTAT=ACCEPTED;RSVP=TRUE;CN="Nick Tai
 mitarha":https://networkinginsurrey.co.uk/profile/NickTaimitarha
END:VEVENT
END:VCALENDAR
