BEGIN:VCALENDAR
PRODID:NingEventWidget-v1
VERSION:2.0
METHOD:PUBLISH
BEGIN:VTIMEZONE
TZID:Europe/London
X-LIC-LOCATION:Europe/London
BEGIN:DAYLIGHT
TZOFFSETFROM:+0000
TZOFFSETTO:+0100
TZNAME:BST
DTSTART:19700329T010000
RRULE:FREQ=YEARLY;BYMONTH=3;BYDAY=-1SU
END:DAYLIGHT
BEGIN:STANDARD
TZOFFSETFROM:+0100
TZOFFSETTO:+0000
TZNAME:GMT
DTSTART:19701025T020000
RRULE:FREQ=YEARLY;BYMONTH=10;BYDAY=-1SU
END:STANDARD
END:VTIMEZONE
BEGIN:VEVENT
UID:4626108:Event:34042
DTSTAMP:20260421T010829Z
SUMMARY:An Evening for Fabulous Women, Teddington
DESCRIPTION:An Evening for Fabulous Women: Arrive fabulous, leave insp
 ired!Come and join us for an evening not to be missed. Seven inspiring
  speakers,Â one amazing venue and a fantastic opportunity to glam up a
 nd be simply fabulous with other fabulous women.\nThe format for the e
 vening is a short introduction by each speaker to introduce themselves
  and their topic. If that wasn't enough value, each speaker will then 
 give practical personalised advice and insights to smaller groups.\nTh
 ere is plenty of time to socialise and network and a few tables of spe
 cially selected items for Xmas gift ideas, each unique and special.Â C
 lick here to see who.\nÂ \nThis evening is in aid of Arthritis Researc
 h with all proceeds going to this worthwhile cause. At the end of the 
 evening there will be a raffle. Â Tea/ coffee and canapÃ©s are include
 dÂ and a pay bar is available.\nDoors open at 6:30; speakers start at 
 7:15 and the evening will end with a raffle in aid of Arthritis Resear
 ch at 10pm.\nDying to know the line up? Great! Here it isâ€¦. If you w
 ould like to read more about the amazing speakers click here.\nCOST: Â
 £10\nPLEASE CLICK HERE TO BOOK\nThe event in June sold out a week befo
 re and tickets for this event are selling like hot cakes.\nFor only Â£
 10.00 can you afford to miss out?\nMAP\n\nFor more information visit h
 ttps://networkinginsurrey.co.uk/events/an-evening-for-fabulous-women
DTSTART;TZID=Europe/London:20111110T183000
DTEND;TZID=Europe/London:20111110T223000
CATEGORIES:networking, fundraiser, evening, women, teddington
LOCATION:Lensbury Club TW11 9NU
WEBSITE:http://fabwomen.eventbrite.com/
URL:http://fabwomen.eventbrite.com/
CONTACT:07824311475
ORGANIZER;CN="Paullette Schwartz":https://networkinginsurrey.co.uk/pro
 file/PaulletteSchwartz
ATTACH;FMTTYPE="image/jpeg":http://storage.ning.com/topology/rest/1.0/
 file/get/2591393340?profile=original
ATTENDEE;ROLE=REQ-PARTICIPANT;PARTSTAT=ACCEPTED;RSVP=TRUE;CN="Paula Ke
 mp":https://networkinginsurrey.co.uk/profile/HolisticTherapieswithPaul
 aKemp
ATTENDEE;ROLE=REQ-PARTICIPANT;PARTSTAT=ACCEPTED;RSVP=TRUE;CN="Janet Le
 dsham":https://networkinginsurrey.co.uk/profile/JanetLedsham
ATTENDEE;ROLE=REQ-PARTICIPANT;PARTSTAT=ACCEPTED;RSVP=TRUE;CN="Paullett
 e Schwartz":https://networkinginsurrey.co.uk/profile/PaulletteSchwartz
END:VEVENT
END:VCALENDAR
