BEGIN:VCALENDAR
PRODID:NingEventWidget-v1
VERSION:2.0
METHOD:PUBLISH
BEGIN:VTIMEZONE
TZID:Europe/London
X-LIC-LOCATION:Europe/London
BEGIN:DAYLIGHT
TZOFFSETFROM:+0000
TZOFFSETTO:+0100
TZNAME:BST
DTSTART:19700329T010000
RRULE:FREQ=YEARLY;BYMONTH=3;BYDAY=-1SU
END:DAYLIGHT
BEGIN:STANDARD
TZOFFSETFROM:+0100
TZOFFSETTO:+0000
TZNAME:GMT
DTSTART:19701025T020000
RRULE:FREQ=YEARLY;BYMONTH=10;BYDAY=-1SU
END:STANDARD
END:VTIMEZONE
BEGIN:VEVENT
UID:4626108:Event:1069
DTSTAMP:20260425T214747Z
SUMMARY:Amovita Netwalk in Richmond Park
DESCRIPTION:Amovita Netwalk in Richmond Park with Elizabeth Cairns\n\n
 Enjoy networking in the great outdoors with the support of an expert f
 acilitator and coach.\n When running a small business your time is val
 uable and when networking every conversation counts. When we are relax
 ed, enjoying ourselves and are connected to what is really important t
 o us, then getting a powerful message across is much easier. If networ
 king sometimes leaves you feeling, tired drained and a little dispirit
 ed about your business then it's time to try an Amovita Netwalk as a d
 elightfully different approach to networking. Networking can be fun, h
 ealthy and leave you feeling energised, encouraged and with ultimately
  more clients.\nEffective networking and generating more business is a
 bout building relationships, not always direct selling. Effective rela
 tionships are based on great rapport, mutual trust and are developed b
 y regular contact. By being yourself in a relaxed and friendly environ
 ment building quality relationships is easier and Netwalking provides 
 the ideal framework.\nAs your facilitator I work to ensure that you ha
 ve the opportunity to speak with everyone else in the group, ask the r
 ight questions and showcase your business and yourself in the best lig
 ht. It's light hearted, great fun and you can get some great insights 
 and valuable feedback. Being out in the fresh air for a brisk walk has
  it's obvious benefits too.\nCOST: £10 per session.\nBOOK HERE: There
  are only 10 places on each netwalk.Email or text your name and mobile
  number to me on elizabeth@amovita.co.uk or 07734 110401.\nMAP\nWe lea
 ve the Dysart Arms Car Park in Petersham, at 9.15 promptly for a lovel
 y walk in Richmond Park. Please wear suitable footwear and bring a mac
  as we walk come rain or shine. The Dysart Arms is by the Petersham pe
 destrian gate to the Park\n--------------------------------------\nAmo
 vita Netwalks, run by NiS Member Elizabeth Cairns, take place in both 
 Gunnersbury Park on the 2nd Tuesday of every month and Richmond Park o
 n the 3rd Friday of every month (except Easter when the dates change).
  If you want opportunities to drop in your lap, then you need to put y
 our lap where opportunities are likely to drop! Book your place now!.\
 n\nFor more information visit https://networkinginsurrey.co.uk/events/
 amovita-netwalk-in-richmond-1
DTSTART;TZID=Europe/London:20100423T091500
DTEND;TZID=Europe/London:20100423T101500
CATEGORIES:morning, richmond, active, amovita
LOCATION:Dysart Arms Car Park in Petersham TW10 7AA
WEBSITE:http://www.thedysartarms.co.u…
URL:http://www.thedysartarms.co.u…
CONTACT:07734 110401
ORGANIZER:Elizabeth Cairns
ATTACH;FMTTYPE="image/jpeg":http://storage.ning.com/topology/rest/1.0/
 file/get/2591377782?profile=original
ATTENDEE;ROLE=REQ-PARTICIPANT;PARTSTAT=TENTATIVE;RSVP=TRUE;CN="Keith G
 rover, NiS Founder":https://networkinginsurrey.co.uk/profile/KeithGrov
 er
END:VEVENT
END:VCALENDAR
