BEGIN:VCALENDAR
PRODID:NingEventWidget-v1
VERSION:2.0
METHOD:PUBLISH
BEGIN:VTIMEZONE
TZID:Europe/London
X-LIC-LOCATION:Europe/London
BEGIN:DAYLIGHT
TZOFFSETFROM:+0000
TZOFFSETTO:+0100
TZNAME:BST
DTSTART:19700329T010000
RRULE:FREQ=YEARLY;BYMONTH=3;BYDAY=-1SU
END:DAYLIGHT
BEGIN:STANDARD
TZOFFSETFROM:+0100
TZOFFSETTO:+0000
TZNAME:GMT
DTSTART:19701025T020000
RRULE:FREQ=YEARLY;BYMONTH=10;BYDAY=-1SU
END:STANDARD
END:VTIMEZONE
BEGIN:VEVENT
UID:4626108:Event:6782
DTSTAMP:20260422T173534Z
SUMMARY:Amovita Morning Netwalk, Richmond
DESCRIPTION: Amovita Morning Netwalk in Richmond Park\n\nDelightfully
  different networking in the fresh air with an experienced facilitator
  to help you make the most of your connections.\n1st and 3rd Friday of
  each month| 09.30 – 10.30| Petersham Gate, Richmond Park -pedest
 rian gate opposite the Dysart Arms pub|\nCOST: £10 pp open to all (we
 ll behaved dogs and babies welcome) Places are limited so please ensur
 e you book.\nCLICK HERE TO BOOK via our website and I look forward to
  welcoming you.\nMAP\nNetwalks were created by Elizabeth Cairns and a
 re a healthy and inspirational way of networking and spending time on
  your business that is refreshingly different. \nThey take place in 
 the great outdoors and Amovita Netwalking with Amovita is expertly f
 acilitated to ensure you get a chance to speak to everyone, share your
  expertise, showcase your business and receive tools, tips and inspira
 tion to move positively forward.\n\nOur netwalkers come from all over
  London and the South East and are interested in building genuine r
 elationships\nOur netwalkers are passionate about their businesses and
  supportive of each other\nOur netwalkers talk about what really matte
 rs to them, are listened to and encouraged every step of the way\nOur
  netwalkers recognise the benefits of getting together with a group of
  like minds to refocus and re-energise\nOur netwalkers love exercising
  in the fresh air and appreciate the beauty of nature (whatever the we
 ather).\n\nSo if you:\n\nWant to get more out of networking\nAre tire
 d of the usual hard sell approach\nWant help making the most of your 
 networking conversations\nWant to better understand yourself, your bus
 iness and your clients\nWant to network in a relaxed and open environ
 ment…\n\n...then Amovita netwalking is for you\n \n\nFor more infor
 mation visit https://networkinginsurrey.co.uk/events/amovita-morning-n
 etwalk
DTSTART;TZID=Europe/London:20110204T093000
DTEND;TZID=Europe/London:20110204T103000
CATEGORIES:netwalking, morning, richmond, amovita
LOCATION:Richmond Park TW10 7AA
WEBSITE:http://www.amovita.co.uk/events/netwalks/
URL:http://www.amovita.co.uk/events/netwalks/
CONTACT:
ORGANIZER;CN="Elizabeth Cairns":https://networkinginsurrey.co.uk/profi
 le/ElizabethCairns
ATTACH;FMTTYPE="image/jpeg":http://storage.ning.com/topology/rest/1.0/
 file/get/2591389796?profile=original
ATTENDEE;ROLE=REQ-PARTICIPANT;PARTSTAT=ACCEPTED;RSVP=TRUE;CN="Rosemary
  Hemmett":https://networkinginsurrey.co.uk/profile/RosemaryHemmett
ATTENDEE;ROLE=REQ-PARTICIPANT;PARTSTAT=ACCEPTED;RSVP=TRUE;CN="Nicky Ru
 dd":https://networkinginsurrey.co.uk/profile/NickyRudd
ATTENDEE;ROLE=REQ-PARTICIPANT;PARTSTAT=ACCEPTED;RSVP=TRUE;CN="Elizabet
 h Cairns":https://networkinginsurrey.co.uk/profile/ElizabethCairns
END:VEVENT
END:VCALENDAR
