BEGIN:VCALENDAR
PRODID:NingEventWidget-v1
VERSION:2.0
METHOD:PUBLISH
BEGIN:VTIMEZONE
TZID:Europe/London
X-LIC-LOCATION:Europe/London
BEGIN:DAYLIGHT
TZOFFSETFROM:+0000
TZOFFSETTO:+0100
TZNAME:BST
DTSTART:19700329T010000
RRULE:FREQ=YEARLY;BYMONTH=3;BYDAY=-1SU
END:DAYLIGHT
BEGIN:STANDARD
TZOFFSETFROM:+0100
TZOFFSETTO:+0000
TZNAME:GMT
DTSTART:19701025T020000
RRULE:FREQ=YEARLY;BYMONTH=10;BYDAY=-1SU
END:STANDARD
END:VTIMEZONE
BEGIN:VEVENT
UID:4626108:Event:6923
DTSTAMP:20260423T052233Z
SUMMARY:Amovita Morning Netwalk in Richmond Park
DESCRIPTION:Amovita Morning Netwalk in Richmond Park\n\nDelightfully d
 ifferent networking in the fresh air with an experienced facilitator t
 o help you make the most of your connections.\n1st and 3rd Friday of e
 ach month| 09.30 – 10.30| Petersham Gate, Richmond Park -pedestri
 an gate opposite the Dysart Arms pub|\nCOST: £10 pp open to all (well
  behaved dogs and babies welcome) Places are limited so please ensure 
 you book.\nCLICK HERE TO BOOK via our website and I look forward to w
 elcoming you.\nMAP\nNetwalks were created by Elizabeth Cairns and are
  a healthy and inspirational way of networking and spending time on y
 our business that is refreshingly different. \nThey take place in th
 e great outdoors and Amovita Netwalking with Amovita is expertly fac
 ilitated to ensure you get a chance to speak to everyone, share your e
 xpertise, showcase your business and receive tools, tips and inspirati
 on to move positively forward.\n\nOur netwalkers come from all over L
 ondon and the South East and are interested in building genuine rel
 ationships\nOur netwalkers are passionate about their businesses and s
 upportive of each other\nOur netwalkers talk about what really matters
  to them, are listened to and encouraged every step of the way\nOur n
 etwalkers recognise the benefits of getting together with a group of l
 ike minds to refocus and re-energise\nOur netwalkers love exercising i
 n the fresh air and appreciate the beauty of nature (whatever the weat
 her).\n\nSo if you:\n\nWant to get more out of networking\nAre tired 
 of the usual hard sell approach\nWant help making the most of your ne
 tworking conversations\nWant to better understand yourself, your busin
 ess and your clients\nWant to network in a relaxed and open environme
 nt…\n\n...then Amovita netwalking is for you\n\nFor more information
  visit https://networkinginsurrey.co.uk/events/amovita-morning-netwalk
 -in-1
DTSTART;TZID=Europe/London:20110304T093000
DTEND;TZID=Europe/London:20110304T103000
CATEGORIES:netwalking, morning, richmond, amovita
LOCATION:Richmond Park TW10 7AA
WEBSITE:http://www.amovita.co.uk/events/netwalks/
URL:http://www.amovita.co.uk/events/netwalks/
CONTACT:
ORGANIZER;CN="Elizabeth Cairns":https://networkinginsurrey.co.uk/profi
 le/ElizabethCairns
ATTACH;FMTTYPE="image/jpeg":http://storage.ning.com/topology/rest/1.0/
 file/get/2591389796?profile=original
ATTENDEE;ROLE=REQ-PARTICIPANT;PARTSTAT=ACCEPTED;RSVP=TRUE;CN="Elizabet
 h Cairns":https://networkinginsurrey.co.uk/profile/ElizabethCairns
END:VEVENT
END:VCALENDAR
