BEGIN:VCALENDAR
PRODID:NingEventWidget-v1
VERSION:2.0
METHOD:PUBLISH
BEGIN:VTIMEZONE
TZID:Europe/London
X-LIC-LOCATION:Europe/London
BEGIN:DAYLIGHT
TZOFFSETFROM:+0000
TZOFFSETTO:+0100
TZNAME:BST
DTSTART:19700329T010000
RRULE:FREQ=YEARLY;BYMONTH=3;BYDAY=-1SU
END:DAYLIGHT
BEGIN:STANDARD
TZOFFSETFROM:+0100
TZOFFSETTO:+0000
TZNAME:GMT
DTSTART:19701025T020000
RRULE:FREQ=YEARLY;BYMONTH=10;BYDAY=-1SU
END:STANDARD
END:VTIMEZONE
BEGIN:VEVENT
UID:4626108:Event:2723
DTSTAMP:20260426T015756Z
SUMMARY:All Welcome! FSB North Surrey Barbeque Evening
DESCRIPTION:FSB Barbeque Evening\n\nA evening of Networking with a gre
 at Barbeque laid on - come and enjoy a summer evening with good food a
 nd good company! And there's no World Cup match on for a change... Non
 -members are welcome - so put it in the diary now!\nCOST: £15 - all w
 elcome\nBOOK HERE\nMAP\n\nFor more information visit https://networkin
 ginsurrey.co.uk/events/all-welcome-fsb-north-surrey
DTSTART;TZID=Europe/London:20100709T190000
DTEND;TZID=Europe/London:20100709T220000
CATEGORIES:bbq, social, business_networking
LOCATION:Hersham Village Golf Club  KT12 4RA
WEBSITE:
URL:
CONTACT:020 8941 2187
ORGANIZER:Derek Williamson
ATTACH;FMTTYPE="image/jpeg":http://storage.ning.com/topology/rest/1.0/
 file/get/2591382979?profile=original
ATTENDEE;ROLE=REQ-PARTICIPANT;PARTSTAT=ACCEPTED;RSVP=TRUE;CN="Derek Wi
 lliamson":https://networkinginsurrey.co.uk/profile/DerekWilliamson
ATTENDEE;ROLE=REQ-PARTICIPANT;PARTSTAT=TENTATIVE;RSVP=TRUE;CN="Danny E
 ldridge":https://networkinginsurrey.co.uk/profile/DannyEldridge
END:VEVENT
END:VCALENDAR
