BEGIN:VCALENDAR
PRODID:NingEventWidget-v1
VERSION:2.0
METHOD:PUBLISH
BEGIN:VTIMEZONE
TZID:Europe/London
X-LIC-LOCATION:Europe/London
BEGIN:DAYLIGHT
TZOFFSETFROM:+0000
TZOFFSETTO:+0100
TZNAME:BST
DTSTART:19700329T010000
RRULE:FREQ=YEARLY;BYMONTH=3;BYDAY=-1SU
END:DAYLIGHT
BEGIN:STANDARD
TZOFFSETFROM:+0100
TZOFFSETTO:+0000
TZNAME:GMT
DTSTART:19701025T020000
RRULE:FREQ=YEARLY;BYMONTH=10;BYDAY=-1SU
END:STANDARD
END:VTIMEZONE
BEGIN:VEVENT
UID:4626108:Event:548056
DTSTAMP:20260425T231437Z
SUMMARY:Afternoon LinkedIn Workshop and Course Combo Online
DESCRIPTION:LinkedIn Workshop and Course Combo with Keith Grover\r\n\r
 \nYouâ€™ll discover how to exploit the awesome power of this massive r
 esearch database ofÂ â€˜everybody in businessâ€™Â you could ever wish 
 to meet â€“ and thenÂ ConnectÂ with them... it's networking on steroid
 s!\r\nYour FREE LinkedIn Account gives you:\r\n\r\nAÂ DirectoryÂ of ev
 erybody in business\r\nAÂ WebsiteÂ of Professional You - your Profile\
 r\nA showcase for your Personal Brand (itâ€™s NOT your CV!)\r\nOne or 
 moreÂ Business PagesÂ to promote your Products & Services\r\nAÂ Search
 Â function with powerfulÂ filters to help you track down, Connect and 
 network with your idealÂ Customers,Â SuppliersÂ and potentialÂ Collabo
 rators\r\nA globally visibleÂ BlogÂ platform to engage and share your 
 insights, ideas, experience and expertise\r\nThe option to create regu
 larÂ NewslettersÂ that are distributed to your Subscribers for free\r\
 nA secureÂ Direct MessagingÂ application - so your messages don't get 
 lost in their inbox (or spam filter)\r\nA platform to broadcast liveÂ 
 Video EventsÂ and share your own recorded Videos with the world\r\nAcc
 ess toÂ Leading ExpertsÂ in your field and areas of interest (you canÂ
  FollowÂ anybody on LinkedIn without them accepting a Connection reque
 st from you)\r\n...and a lot more besides!\r\n\r\nSo are you using all
  these powerful tools to the max, to grow your Business and Personal B
 rand?Â \r\nBook in now and let's find out how we can turbo-charge your
  networking for FUN & PROFIT!Â \r\nCOST: Â£197 (no VAT!) including the
  full event recording\r\nBOOKING: Please CLICK HERE for more info and 
 to book your place\n\nFor more information visit https://networkingins
 urrey.co.uk/events/afternoon-linkedin-workshop-and-course-combo-online
 -2
DTSTART;TZID=Europe/London:20260218T140000
DTEND;TZID=Europe/London:20260218T163000
CATEGORIES:online, workshop, linkedin
LOCATION:Online via Zoom
WEBSITE:https://www.eventbrite.co.uk/e/linkedin-workhop-course-combo-t
 ickets-1236370370059?aff=oddtdtcreator&amp;amp;amp;amp;amp;amp;amp;_gl
 =1%2A3k1q82%2A_up%2AMQ..%2A_ga%2AMTQ5NDAyMjguMTczODg2MzI2OA..%2A_ga_TQ
 VES5V6SH%2AMTczODg2MzI2OC4xLjEuMTczODg2MzM4Ny4wLjAuMA..
URL:https://www.eventbrite.co.uk/e/linkedin-workhop-course-combo-ticke
 ts-1236370370059?aff=oddtdtcreator&amp;amp;amp;amp;amp;amp;amp;_gl=1%2
 A3k1q82%2A_up%2AMQ..%2A_ga%2AMTQ5NDAyMjguMTczODg2MzI2OA..%2A_ga_TQVES5
 V6SH%2AMTczODg2MzI2OC4xLjEuMTczODg2MzM4Ny4wLjAuMA..
CONTACT:
ORGANIZER;CN="Keith Grover, NiS Founder":https://networkinginsurrey.co
 .uk/profile/KeithGrover
ATTACH;FMTTYPE="image/jpeg":https://storage.ning.com/topology/rest/1.0
 /file/get/31036941681?profile=original
ATTENDEE;ROLE=REQ-PARTICIPANT;PARTSTAT=ACCEPTED;RSVP=TRUE;CN="Keith Gr
 over, NiS Founder":https://networkinginsurrey.co.uk/profile/KeithGrove
 r
END:VEVENT
END:VCALENDAR
