BEGIN:VCALENDAR
PRODID:NingEventWidget-v1
VERSION:2.0
METHOD:PUBLISH
BEGIN:VTIMEZONE
TZID:Europe/London
X-LIC-LOCATION:Europe/London
BEGIN:DAYLIGHT
TZOFFSETFROM:+0000
TZOFFSETTO:+0100
TZNAME:BST
DTSTART:19700329T010000
RRULE:FREQ=YEARLY;BYMONTH=3;BYDAY=-1SU
END:DAYLIGHT
BEGIN:STANDARD
TZOFFSETFROM:+0100
TZOFFSETTO:+0000
TZNAME:GMT
DTSTART:19701025T020000
RRULE:FREQ=YEARLY;BYMONTH=10;BYDAY=-1SU
END:STANDARD
END:VTIMEZONE
BEGIN:VEVENT
UID:4626108:Event:68359
DTSTAMP:20260421T210406Z
SUMMARY:GUEST EVENT: FREE Evening with Brad Sugars, Crawley
DESCRIPTION:Meet ActionCOACH Founder Brad Sugars at The Hawth!\n\n\nRu
 nning a business and want to grow? \nWould you like more customers?\n
 And would you like those customers to buy from you again and again and
  again?\n\nCome and spend 3 hrs for FREE with the world's best busines
 s coach (CEO & Founder of ActionCOACH) Brad Sugars, who will give you 
 new insights and strategies to turn all of your sales and marketing in
 vestments into guaranteed profit outcomes!\nCOST: FREE to attend (book
 ing is essential)\nBOOKING: Please CLICK HERE to book your free place
  with this code SENOP12 (choosing The Hawth Gatwick from the Select
  Date / City dropdown box)\nMAP\n\nFor more information visit https:/
 /networkinginsurrey.co.uk/events/actioncoach-gatwick-6th-of-october-6-
 30-9-30-pm
DTSTART;TZID=Europe/London:20141006T183000
DTEND;TZID=Europe/London:20141006T213000
CATEGORIES:free, business, growth, seminar
LOCATION:The Hawth Theatre, Crawley,  RH10 6YZ
WEBSITE:https://www.google.co.uk/maps/place/The+Hawth+Crawley/@51.1114
 58,-0.174717,17z/data=!3m1!4b1!4m2!3m1!1s0x0:0x601436881164fdd4
URL:https://www.google.co.uk/maps/place/The+Hawth+Crawley/@51.111458,-
 0.174717,17z/data=!3m1!4b1!4m2!3m1!1s0x0:0x601436881164fdd4
CONTACT:01252 890 940 or 07960 404 177
ORGANIZER:Nell Op de Beeck and ActionCOACH
ATTACH;FMTTYPE="image/jpeg":http://storage.ning.com/topology/rest/1.0/
 file/get/2591409195?profile=original
ATTENDEE;ROLE=REQ-PARTICIPANT;PARTSTAT=ACCEPTED;RSVP=TRUE;CN="Mark Mor
 timer":https://networkinginsurrey.co.uk/profile/MarkMortimer
ATTENDEE;ROLE=REQ-PARTICIPANT;PARTSTAT=ACCEPTED;RSVP=TRUE;CN="Nell Op 
 de Beeck":https://networkinginsurrey.co.uk/profile/NellOpdeBeeck
END:VEVENT
END:VCALENDAR
