BEGIN:VCALENDAR
PRODID:NingEventWidget-v1
VERSION:2.0
METHOD:PUBLISH
BEGIN:VTIMEZONE
TZID:Europe/London
X-LIC-LOCATION:Europe/London
BEGIN:DAYLIGHT
TZOFFSETFROM:+0000
TZOFFSETTO:+0100
TZNAME:BST
DTSTART:19700329T010000
RRULE:FREQ=YEARLY;BYMONTH=3;BYDAY=-1SU
END:DAYLIGHT
BEGIN:STANDARD
TZOFFSETFROM:+0100
TZOFFSETTO:+0000
TZNAME:GMT
DTSTART:19701025T020000
RRULE:FREQ=YEARLY;BYMONTH=10;BYDAY=-1SU
END:STANDARD
END:VTIMEZONE
BEGIN:VEVENT
UID:4626108:Event:98483
DTSTAMP:20260423T071630Z
SUMMARY:4Networking Breakfast, Reigate
DESCRIPTION:4Networking Breakfast Event at the Reigate Manor Hotel\r\n
 \r\nBusiness Breakfast at its best - lots of time for open networking,
  three one-to-one meetings, everyone gets to pitch for 40 seconds. Thi
 s week the 4Sight, an insightful presentation and not a sales pitch, i
 s by Melinda Brecheisen of Anchor Oils, and is titled \"Leading with y
 our Strengths\".\r\nAs ever, the event will be 50% business & 50% soci
 al... and it works!   \r\nCOST: £15 event fee including breakfas
 t\r\nBOOKING: Please CLICK HERE to book\r\nMAP\r\n\n\nFor more infor
 mation visit https://networkinginsurrey.co.uk/events/4networking-reiga
 te-breakfast
DTSTART;TZID=Europe/London:20180606T080000
DTEND;TZID=Europe/London:20180606T100000
CATEGORIES:business, networking
LOCATION:Reigate Manor Hotel
WEBSITE:https://www.reigatemanor.co.uk/
URL:https://www.reigatemanor.co.uk/
CONTACT:0794 1018336
ORGANIZER;CN="Richard Peers":https://networkinginsurrey.co.uk/profile/
 RichardPeers
ATTACH;FMTTYPE="image/jpeg":http://storage.ning.com/topology/rest/1.0/
 file/get/2591464279?profile=original
ATTENDEE;ROLE=REQ-PARTICIPANT;PARTSTAT=ACCEPTED;RSVP=TRUE;CN="Richard 
 Peers":https://networkinginsurrey.co.uk/profile/RichardPeers
END:VEVENT
END:VCALENDAR
