BEGIN:VCALENDAR
PRODID:NingEventWidget-v1
VERSION:2.0
METHOD:PUBLISH
BEGIN:VTIMEZONE
TZID:Europe/London
X-LIC-LOCATION:Europe/London
BEGIN:DAYLIGHT
TZOFFSETFROM:+0000
TZOFFSETTO:+0100
TZNAME:BST
DTSTART:19700329T010000
RRULE:FREQ=YEARLY;BYMONTH=3;BYDAY=-1SU
END:DAYLIGHT
BEGIN:STANDARD
TZOFFSETFROM:+0100
TZOFFSETTO:+0000
TZNAME:GMT
DTSTART:19701025T020000
RRULE:FREQ=YEARLY;BYMONTH=10;BYDAY=-1SU
END:STANDARD
END:VTIMEZONE
BEGIN:VEVENT
UID:4626108:Event:100670
DTSTAMP:20260422T014111Z
SUMMARY:4Networking Reigate and Redhill Breakfast
DESCRIPTION:4Networking Breakfast Event at the Nutfield Priory Hotel &
  Spa\r\n\r\nBusiness Breakfast at its best - lots of time for open net
 working, three one-to-one meetings, everyone gets to pitch for 40 seco
 nds, and the 4Sight, an insightful presentation by a member (not a sal
 es pitch)... Louise Coe of Active Wellness presents 'Sleep Better, Wo
 rk Better - How to get a better night's sleep!'\r\nNutfield Priory is 
 part of the Handpicked Hotels group, and is a first class networking v
 enue - one of the plushest in the area - so book in for some R&R on a 
 Wednesday morning!\r\nAs ever, the event will be 50% business & 50% so
 cial... and it works!   \r\nCOST: £15 event fee including breakf
 ast\r\nBOOKING: Please CLICK HERE to book\r\nMAP\n\nFor more informa
 tion visit https://networkinginsurrey.co.uk/events/4networking-reigate
 -amp-redhill-breakfast-2
DTSTART;TZID=Europe/London:20181024T080000
DTEND;TZID=Europe/London:20181024T100000
CATEGORIES:business, networking
LOCATION:Nutfield Priory
WEBSITE:https://www.google.co.uk/maps/place/Nutfield+Priory+Hotel+%26+
 Spa/@51.2357417,-0.1419669,15z
URL:https://www.google.co.uk/maps/place/Nutfield+Priory+Hotel+%26+Spa/
 @51.2357417,-0.1419669,15z
CONTACT:
ORGANIZER;CN="Richard Peers":https://networkinginsurrey.co.uk/profile/
 RichardPeers
ATTACH;FMTTYPE="image/jpeg":http://storage.ning.com/topology/rest/1.0/
 file/get/2591458489?profile=original
ATTENDEE;ROLE=REQ-PARTICIPANT;PARTSTAT=ACCEPTED;RSVP=TRUE;CN="Richard 
 Peers":https://networkinginsurrey.co.uk/profile/RichardPeers
END:VEVENT
END:VCALENDAR
